BEGIN:VCALENDAR
VERSION:2.0
PRODID:-//いさとSCバスケットボールクラブ - 愛知県 豊田市 ミニバス 練習見学・体験 随時受付中 - ECPv6.5.0//NONSGML v1.0//EN
CALSCALE:GREGORIAN
METHOD:PUBLISH
X-ORIGINAL-URL:https://new.isatosc-bbc.com
X-WR-CALDESC:いさとSCバスケットボールクラブ - 愛知県 豊田市 ミニバス 練習見学・体験 随時受付中 のイベント
REFRESH-INTERVAL;VALUE=DURATION:PT1H
X-Robots-Tag:noindex
X-PUBLISHED-TTL:PT1H
BEGIN:VTIMEZONE
TZID:Asia/Tokyo
BEGIN:STANDARD
TZOFFSETFROM:+0900
TZOFFSETTO:+0900
TZNAME:JST
DTSTART:20240101T000000
END:STANDARD
END:VTIMEZONE
BEGIN:VEVENT
DTSTART;TZID=Asia/Tokyo:20240404T170000
DTEND;TZID=Asia/Tokyo:20240404T210000
DTSTAMP:20260424T074253
CREATED:20240416T112444Z
LAST-MODIFIED:20240416T112444Z
UID:15315-1712250000-1712264400@new.isatosc-bbc.com
SUMMARY:コミセン
DESCRIPTION:
URL:https://new.isatosc-bbc.com/schedule/%e3%82%b3%e3%83%9f%e3%82%bb%e3%83%b3-2/
LOCATION:猿投コミセン\, 愛知県豊田市四郷町東畑70-1
CATEGORIES:ジュニア：練習
END:VEVENT
BEGIN:VEVENT
DTSTART;VALUE=DATE:20240406
DTEND;VALUE=DATE:20240407
DTSTAMP:20260424T074253
CREATED:20240419T122537Z
LAST-MODIFIED:20240419T122537Z
UID:15937-1712361600-1712447999@new.isatosc-bbc.com
SUMMARY:三遠ネオフェニックス練習試合
DESCRIPTION:
URL:https://new.isatosc-bbc.com/schedule/%e4%b8%89%e9%81%a0%e3%83%8d%e3%82%aa%e3%83%95%e3%82%a7%e3%83%8b%e3%83%83%e3%82%af%e3%82%b9%e7%b7%b4%e7%bf%92%e8%a9%a6%e5%90%88/
CATEGORIES:ジュニア：試合
END:VEVENT
BEGIN:VEVENT
DTSTART;TZID=Asia/Tokyo:20240406T130000
DTEND;TZID=Asia/Tokyo:20240406T170000
DTSTAMP:20260424T074253
CREATED:20240416T113213Z
LAST-MODIFIED:20240416T113213Z
UID:15363-1712408400-1712422800@new.isatosc-bbc.com
SUMMARY:コミセン
DESCRIPTION:
URL:https://new.isatosc-bbc.com/schedule/%e3%82%b3%e3%83%9f%e3%82%bb%e3%83%b3-22/
LOCATION:猿投コミセン\, 愛知県豊田市四郷町東畑70-1
CATEGORIES:ミニバス男子：練習
END:VEVENT
BEGIN:VEVENT
DTSTART;TZID=Asia/Tokyo:20240406T130000
DTEND;TZID=Asia/Tokyo:20240406T170000
DTSTAMP:20260424T074253
CREATED:20240416T115021Z
LAST-MODIFIED:20240416T115021Z
UID:15447-1712408400-1712422800@new.isatosc-bbc.com
SUMMARY:コミセン
DESCRIPTION:
URL:https://new.isatosc-bbc.com/schedule/%e3%82%b3%e3%83%9f%e3%82%bb%e3%83%b3-35/
LOCATION:猿投コミセン\, 愛知県豊田市四郷町東畑70-1
CATEGORIES:ミニバス女子：練習
END:VEVENT
BEGIN:VEVENT
DTSTART;VALUE=DATE:20240407
DTEND;VALUE=DATE:20240408
DTSTAMP:20260424T074253
CREATED:20240419T120711Z
LAST-MODIFIED:20240419T120711Z
UID:15910-1712448000-1712534399@new.isatosc-bbc.com
SUMMARY:武豊LUNDI交歓会
DESCRIPTION:
URL:https://new.isatosc-bbc.com/schedule/%e6%ad%a6%e8%b1%8alundi%e4%ba%a4%e6%ad%93%e4%bc%9a/
LOCATION:武豊町総合体育館\, 愛知県知多郡武豊町大字東大高字清水128
CATEGORIES:ミニバス男子：試合
END:VEVENT
BEGIN:VEVENT
DTSTART;VALUE=DATE:20240407
DTEND;VALUE=DATE:20240408
DTSTAMP:20260424T074253
CREATED:20240419T121539Z
LAST-MODIFIED:20240419T121728Z
UID:15924-1712448000-1712534399@new.isatosc-bbc.com
SUMMARY:東海カップ 新人戦2024
DESCRIPTION:
URL:https://new.isatosc-bbc.com/schedule/%e6%9d%b1%e6%b5%b7%e3%82%ab%e3%83%83%e3%83%97-2/
LOCATION:東海市民体育館\, 愛知県東海市高横須賀町桝形１−１
CATEGORIES:ミニバス女子：試合
END:VEVENT
BEGIN:VEVENT
DTSTART;VALUE=DATE:20240407
DTEND;VALUE=DATE:20240408
DTSTAMP:20260424T074253
CREATED:20240419T122456Z
LAST-MODIFIED:20240419T122456Z
UID:15935-1712448000-1712534399@new.isatosc-bbc.com
SUMMARY:小泉Jr.交流会
DESCRIPTION:
URL:https://new.isatosc-bbc.com/schedule/%e5%b0%8f%e6%b3%89jr-%e4%ba%a4%e6%b5%81%e4%bc%9a/
CATEGORIES:ジュニア：試合
END:VEVENT
BEGIN:VEVENT
DTSTART;TZID=Asia/Tokyo:20240409T170000
DTEND;TZID=Asia/Tokyo:20240409T210000
DTSTAMP:20260424T074253
CREATED:20240416T112510Z
LAST-MODIFIED:20240416T112510Z
UID:15317-1712682000-1712696400@new.isatosc-bbc.com
SUMMARY:コミセン
DESCRIPTION:
URL:https://new.isatosc-bbc.com/schedule/%e3%82%b3%e3%83%9f%e3%82%bb%e3%83%b3-3/
LOCATION:猿投コミセン\, 愛知県豊田市四郷町東畑70-1
CATEGORIES:ジュニア：練習
END:VEVENT
BEGIN:VEVENT
DTSTART;TZID=Asia/Tokyo:20240410T183000
DTEND;TZID=Asia/Tokyo:20240410T210000
DTSTAMP:20260424T074253
CREATED:20240416T113909Z
LAST-MODIFIED:20240515T065216Z
UID:15390-1712773800-1712782800@new.isatosc-bbc.com
SUMMARY:青木小
DESCRIPTION:
URL:https://new.isatosc-bbc.com/schedule/%e9%9d%92%e6%9c%a8%e5%b0%8f/
LOCATION:青木小\, 愛知県豊田市青木町４丁目５
CATEGORIES:ミニバス男子：練習
END:VEVENT
BEGIN:VEVENT
DTSTART;TZID=Asia/Tokyo:20240410T183000
DTEND;TZID=Asia/Tokyo:20240410T210000
DTSTAMP:20260424T074253
CREATED:20240416T114428Z
LAST-MODIFIED:20240515T070748Z
UID:15412-1712773800-1712782800@new.isatosc-bbc.com
SUMMARY:青木小
DESCRIPTION:
URL:https://new.isatosc-bbc.com/schedule/%e9%9d%92%e6%9c%a8%e5%b0%8f-12/
LOCATION:青木小\, 愛知県豊田市青木町４丁目５
CATEGORIES:ミニバス女子：練習
END:VEVENT
BEGIN:VEVENT
DTSTART;TZID=Asia/Tokyo:20240411T170000
DTEND;TZID=Asia/Tokyo:20240411T210000
DTSTAMP:20260424T074253
CREATED:20240416T112519Z
LAST-MODIFIED:20240416T112519Z
UID:15319-1712854800-1712869200@new.isatosc-bbc.com
SUMMARY:コミセン
DESCRIPTION:
URL:https://new.isatosc-bbc.com/schedule/%e3%82%b3%e3%83%9f%e3%82%bb%e3%83%b3-4/
LOCATION:猿投コミセン\, 愛知県豊田市四郷町東畑70-1
CATEGORIES:ジュニア：練習
END:VEVENT
BEGIN:VEVENT
DTSTART;TZID=Asia/Tokyo:20240411T180000
DTEND;TZID=Asia/Tokyo:20240411T210000
DTSTAMP:20260424T074253
CREATED:20240416T113240Z
LAST-MODIFIED:20240416T113240Z
UID:15365-1712858400-1712869200@new.isatosc-bbc.com
SUMMARY:コミセン
DESCRIPTION:
URL:https://new.isatosc-bbc.com/schedule/%e3%82%b3%e3%83%9f%e3%82%bb%e3%83%b3-23/
LOCATION:猿投コミセン\, 愛知県豊田市四郷町東畑70-1
CATEGORIES:ミニバス男子：練習
END:VEVENT
BEGIN:VEVENT
DTSTART;VALUE=DATE:20240413
DTEND;VALUE=DATE:20240415
DTSTAMP:20260424T074253
CREATED:20240419T122643Z
LAST-MODIFIED:20240419T122643Z
UID:15939-1712966400-1713139199@new.isatosc-bbc.com
SUMMARY:ISC杯
DESCRIPTION:
URL:https://new.isatosc-bbc.com/schedule/isc%e6%9d%af/
LOCATION:豊田市運動公園\, 愛知県豊田市高町東山4-97
CATEGORIES:ジュニア：試合
END:VEVENT
BEGIN:VEVENT
DTSTART;TZID=Asia/Tokyo:20240413T130000
DTEND;TZID=Asia/Tokyo:20240413T190000
DTSTAMP:20260424T074253
CREATED:20240416T113929Z
LAST-MODIFIED:20240416T113929Z
UID:15392-1713013200-1713034800@new.isatosc-bbc.com
SUMMARY:青木小
DESCRIPTION:
URL:https://new.isatosc-bbc.com/schedule/%e9%9d%92%e6%9c%a8%e5%b0%8f-2/
LOCATION:青木小\, 愛知県豊田市青木町４丁目５
CATEGORIES:ミニバス男子：練習
END:VEVENT
BEGIN:VEVENT
DTSTART;VALUE=DATE:20240414
DTEND;VALUE=DATE:20240415
DTSTAMP:20260424T074253
CREATED:20240419T120935Z
LAST-MODIFIED:20240419T120935Z
UID:15914-1713052800-1713139199@new.isatosc-bbc.com
SUMMARY:Victorys Spring Cup 2024
DESCRIPTION:
URL:https://new.isatosc-bbc.com/schedule/victorys-spring-cup-2024/
LOCATION:パロマ瑞穂アリーナ 第1競技場\, 愛知県名古屋市瑞穂区 名古屋市瑞穂区田辺通３丁目４番地
CATEGORIES:ミニバス男子：試合
END:VEVENT
BEGIN:VEVENT
DTSTART;TZID=Asia/Tokyo:20240414T130000
DTEND;TZID=Asia/Tokyo:20240414T170000
DTSTAMP:20260424T074253
CREATED:20240416T114833Z
LAST-MODIFIED:20240416T114833Z
UID:15440-1713099600-1713114000@new.isatosc-bbc.com
SUMMARY:青木小
DESCRIPTION:
URL:https://new.isatosc-bbc.com/schedule/%e9%9d%92%e6%9c%a8%e5%b0%8f-19/
LOCATION:青木小\, 愛知県豊田市青木町４丁目５
CATEGORIES:ミニバス女子：練習
END:VEVENT
BEGIN:VEVENT
DTSTART;TZID=Asia/Tokyo:20240416T170000
DTEND;TZID=Asia/Tokyo:20240416T210000
DTSTAMP:20260424T074253
CREATED:20240416T112528Z
LAST-MODIFIED:20240416T112528Z
UID:15321-1713286800-1713301200@new.isatosc-bbc.com
SUMMARY:コミセン
DESCRIPTION:
URL:https://new.isatosc-bbc.com/schedule/%e3%82%b3%e3%83%9f%e3%82%bb%e3%83%b3-5/
LOCATION:猿投コミセン\, 愛知県豊田市四郷町東畑70-1
CATEGORIES:ジュニア：練習
END:VEVENT
BEGIN:VEVENT
DTSTART;TZID=Asia/Tokyo:20240417T183000
DTEND;TZID=Asia/Tokyo:20240417T210000
DTSTAMP:20260424T074253
CREATED:20240416T113951Z
LAST-MODIFIED:20240515T065232Z
UID:15394-1713378600-1713387600@new.isatosc-bbc.com
SUMMARY:青木小
DESCRIPTION:
URL:https://new.isatosc-bbc.com/schedule/%e9%9d%92%e6%9c%a8%e5%b0%8f-3/
LOCATION:青木小\, 愛知県豊田市青木町４丁目５
CATEGORIES:ミニバス男子：練習
END:VEVENT
BEGIN:VEVENT
DTSTART;TZID=Asia/Tokyo:20240417T183000
DTEND;TZID=Asia/Tokyo:20240417T210000
DTSTAMP:20260424T074253
CREATED:20240416T114437Z
LAST-MODIFIED:20240515T070804Z
UID:15414-1713378600-1713387600@new.isatosc-bbc.com
SUMMARY:青木小
DESCRIPTION:
URL:https://new.isatosc-bbc.com/schedule/%e9%9d%92%e6%9c%a8%e5%b0%8f-13/
LOCATION:青木小\, 愛知県豊田市青木町４丁目５
CATEGORIES:ミニバス女子：練習
END:VEVENT
BEGIN:VEVENT
DTSTART;TZID=Asia/Tokyo:20240418T170000
DTEND;TZID=Asia/Tokyo:20240418T210000
DTSTAMP:20260424T074253
CREATED:20240416T112536Z
LAST-MODIFIED:20240416T112536Z
UID:15323-1713459600-1713474000@new.isatosc-bbc.com
SUMMARY:コミセン
DESCRIPTION:
URL:https://new.isatosc-bbc.com/schedule/%e3%82%b3%e3%83%9f%e3%82%bb%e3%83%b3-6/
LOCATION:猿投コミセン\, 愛知県豊田市四郷町東畑70-1
CATEGORIES:ジュニア：練習
END:VEVENT
BEGIN:VEVENT
DTSTART;TZID=Asia/Tokyo:20240418T180000
DTEND;TZID=Asia/Tokyo:20240418T210000
DTSTAMP:20260424T074253
CREATED:20240417T082543Z
LAST-MODIFIED:20240417T082543Z
UID:15484-1713463200-1713474000@new.isatosc-bbc.com
SUMMARY:コミセン
DESCRIPTION:
URL:https://new.isatosc-bbc.com/schedule/%e3%82%b3%e3%83%9f%e3%82%bb%e3%83%b3-42/
LOCATION:猿投コミセン\, 愛知県豊田市四郷町東畑70-1
CATEGORIES:ミニバス男子：練習
END:VEVENT
BEGIN:VEVENT
DTSTART;TZID=Asia/Tokyo:20240419T180000
DTEND;TZID=Asia/Tokyo:20240419T210000
DTSTAMP:20260424T074253
CREATED:20240416T114629Z
LAST-MODIFIED:20240416T114629Z
UID:15426-1713549600-1713560400@new.isatosc-bbc.com
SUMMARY:加納小
DESCRIPTION:
URL:https://new.isatosc-bbc.com/schedule/%e5%8a%a0%e7%b4%8d%e5%b0%8f/
LOCATION:加納小\, 愛知県豊田市加納町東股５５
CATEGORIES:ミニバス女子：練習
END:VEVENT
BEGIN:VEVENT
DTSTART;TZID=Asia/Tokyo:20240420T130000
DTEND;TZID=Asia/Tokyo:20240420T170000
DTSTAMP:20260424T074253
CREATED:20240416T113454Z
LAST-MODIFIED:20240416T113454Z
UID:15379-1713618000-1713632400@new.isatosc-bbc.com
SUMMARY:コミセン
DESCRIPTION:
URL:https://new.isatosc-bbc.com/schedule/%e3%82%b3%e3%83%9f%e3%82%bb%e3%83%b3-30/
LOCATION:猿投コミセン\, 愛知県豊田市四郷町東畑70-1
CATEGORIES:ミニバス男子：練習
END:VEVENT
BEGIN:VEVENT
DTSTART;TZID=Asia/Tokyo:20240420T130000
DTEND;TZID=Asia/Tokyo:20240420T170000
DTSTAMP:20260424T074253
CREATED:20240416T115033Z
LAST-MODIFIED:20240416T115033Z
UID:15449-1713618000-1713632400@new.isatosc-bbc.com
SUMMARY:コミセン
DESCRIPTION:
URL:https://new.isatosc-bbc.com/schedule/%e3%82%b3%e3%83%9f%e3%82%bb%e3%83%b3-36/
LOCATION:猿投コミセン\, 愛知県豊田市四郷町東畑70-1
CATEGORIES:ミニバス女子：練習
END:VEVENT
BEGIN:VEVENT
DTSTART;TZID=Asia/Tokyo:20240420T170000
DTEND;TZID=Asia/Tokyo:20240420T210000
DTSTAMP:20260424T074253
CREATED:20240416T112556Z
LAST-MODIFIED:20240416T112556Z
UID:15325-1713632400-1713646800@new.isatosc-bbc.com
SUMMARY:コミセン
DESCRIPTION:
URL:https://new.isatosc-bbc.com/schedule/%e3%82%b3%e3%83%9f%e3%82%bb%e3%83%b3-7/
LOCATION:猿投コミセン\, 愛知県豊田市四郷町東畑70-1
CATEGORIES:ジュニア：練習
END:VEVENT
BEGIN:VEVENT
DTSTART;TZID=Asia/Tokyo:20240421T130000
DTEND;TZID=Asia/Tokyo:20240421T170000
DTSTAMP:20260424T074253
CREATED:20240416T113709Z
LAST-MODIFIED:20240416T113709Z
UID:15386-1713704400-1713718800@new.isatosc-bbc.com
SUMMARY:コミセン
DESCRIPTION:
URL:https://new.isatosc-bbc.com/schedule/%e3%82%b3%e3%83%9f%e3%82%bb%e3%83%b3-33/
LOCATION:猿投コミセン\, 愛知県豊田市四郷町東畑70-1
CATEGORIES:ミニバス男子：練習
END:VEVENT
BEGIN:VEVENT
DTSTART;TZID=Asia/Tokyo:20240421T130000
DTEND;TZID=Asia/Tokyo:20240421T170000
DTSTAMP:20260424T074253
CREATED:20240416T115040Z
LAST-MODIFIED:20240416T115040Z
UID:15451-1713704400-1713718800@new.isatosc-bbc.com
SUMMARY:コミセン
DESCRIPTION:
URL:https://new.isatosc-bbc.com/schedule/%e3%82%b3%e3%83%9f%e3%82%bb%e3%83%b3-37/
LOCATION:猿投コミセン\, 愛知県豊田市四郷町東畑70-1
CATEGORIES:ミニバス女子：練習
END:VEVENT
BEGIN:VEVENT
DTSTART;TZID=Asia/Tokyo:20240421T190000
DTEND;TZID=Asia/Tokyo:20240421T210000
DTSTAMP:20260424T074253
CREATED:20240416T112749Z
LAST-MODIFIED:20240416T112749Z
UID:15335-1713726000-1713733200@new.isatosc-bbc.com
SUMMARY:猿投台中
DESCRIPTION:
URL:https://new.isatosc-bbc.com/schedule/%e7%8c%bf%e6%8a%95%e5%8f%b0%e4%b8%ad/
LOCATION:猿投台中\, 愛知県豊田市青木町３丁目８０
CATEGORIES:ジュニア：練習
END:VEVENT
BEGIN:VEVENT
DTSTART;TZID=Asia/Tokyo:20240423T170000
DTEND;TZID=Asia/Tokyo:20240423T210000
DTSTAMP:20260424T074253
CREATED:20240416T112636Z
LAST-MODIFIED:20240416T112636Z
UID:15327-1713891600-1713906000@new.isatosc-bbc.com
SUMMARY:コミセン
DESCRIPTION:
URL:https://new.isatosc-bbc.com/schedule/%e3%82%b3%e3%83%9f%e3%82%bb%e3%83%b3-8/
LOCATION:猿投コミセン\, 愛知県豊田市四郷町東畑70-1
CATEGORIES:ジュニア：練習
END:VEVENT
BEGIN:VEVENT
DTSTART;TZID=Asia/Tokyo:20240424T183000
DTEND;TZID=Asia/Tokyo:20240424T210000
DTSTAMP:20260424T074253
CREATED:20240416T114000Z
LAST-MODIFIED:20240515T065254Z
UID:15396-1713983400-1713992400@new.isatosc-bbc.com
SUMMARY:青木小
DESCRIPTION:
URL:https://new.isatosc-bbc.com/schedule/%e9%9d%92%e6%9c%a8%e5%b0%8f-4/
LOCATION:青木小\, 愛知県豊田市青木町４丁目５
CATEGORIES:ミニバス男子：練習
END:VEVENT
END:VCALENDAR