BEGIN:VCALENDAR
VERSION:2.0
PRODID:-//いさとSCバスケットボールクラブ - 愛知県 豊田市 ミニバス 練習見学・体験 随時受付中 - ECPv6.5.0//NONSGML v1.0//EN
CALSCALE:GREGORIAN
METHOD:PUBLISH
X-ORIGINAL-URL:https://new.isatosc-bbc.com
X-WR-CALDESC:いさとSCバスケットボールクラブ - 愛知県 豊田市 ミニバス 練習見学・体験 随時受付中 のイベント
REFRESH-INTERVAL;VALUE=DURATION:PT1H
X-Robots-Tag:noindex
X-PUBLISHED-TTL:PT1H
BEGIN:VTIMEZONE
TZID:Asia/Tokyo
BEGIN:STANDARD
TZOFFSETFROM:+0900
TZOFFSETTO:+0900
TZNAME:JST
DTSTART:20240101T000000
END:STANDARD
END:VTIMEZONE
BEGIN:VEVENT
DTSTART;TZID=Asia/Tokyo:20240430T170000
DTEND;TZID=Asia/Tokyo:20240430T210000
DTSTAMP:20260424T055532
CREATED:20240416T112704Z
LAST-MODIFIED:20240416T112704Z
UID:15333-1714496400-1714510800@new.isatosc-bbc.com
SUMMARY:コミセン
DESCRIPTION:
URL:https://new.isatosc-bbc.com/schedule/%e3%82%b3%e3%83%9f%e3%82%bb%e3%83%b3-11/
LOCATION:猿投コミセン\, 愛知県豊田市四郷町東畑70-1
CATEGORIES:ジュニア：練習
END:VEVENT
BEGIN:VEVENT
DTSTART;TZID=Asia/Tokyo:20240501T183000
DTEND;TZID=Asia/Tokyo:20240501T210000
DTSTAMP:20260424T055532
CREATED:20240416T114008Z
LAST-MODIFIED:20240515T065124Z
UID:15398-1714588200-1714597200@new.isatosc-bbc.com
SUMMARY:青木小
DESCRIPTION:
URL:https://new.isatosc-bbc.com/schedule/%e9%9d%92%e6%9c%a8%e5%b0%8f-5/
LOCATION:青木小\, 愛知県豊田市青木町４丁目５
CATEGORIES:ミニバス男子：練習
END:VEVENT
BEGIN:VEVENT
DTSTART;TZID=Asia/Tokyo:20240501T183000
DTEND;TZID=Asia/Tokyo:20240501T210000
DTSTAMP:20260424T055532
CREATED:20240416T114509Z
LAST-MODIFIED:20240515T070834Z
UID:15418-1714588200-1714597200@new.isatosc-bbc.com
SUMMARY:青木小
DESCRIPTION:
URL:https://new.isatosc-bbc.com/schedule/%e9%9d%92%e6%9c%a8%e5%b0%8f-15/
LOCATION:青木小\, 愛知県豊田市青木町４丁目５
CATEGORIES:ミニバス女子：練習
END:VEVENT
BEGIN:VEVENT
DTSTART;TZID=Asia/Tokyo:20240502T170000
DTEND;TZID=Asia/Tokyo:20240502T210000
DTSTAMP:20260424T055532
CREATED:20240416T112900Z
LAST-MODIFIED:20240416T112900Z
UID:15343-1714669200-1714683600@new.isatosc-bbc.com
SUMMARY:コミセン
DESCRIPTION:
URL:https://new.isatosc-bbc.com/schedule/%e3%82%b3%e3%83%9f%e3%82%bb%e3%83%b3-12/
LOCATION:猿投コミセン\, 愛知県豊田市四郷町東畑70-1
CATEGORIES:ジュニア：練習
END:VEVENT
BEGIN:VEVENT
DTSTART;TZID=Asia/Tokyo:20240502T180000
DTEND;TZID=Asia/Tokyo:20240502T210000
DTSTAMP:20260424T055532
CREATED:20240416T113326Z
LAST-MODIFIED:20240416T113326Z
UID:15369-1714672800-1714683600@new.isatosc-bbc.com
SUMMARY:コミセン
DESCRIPTION:
URL:https://new.isatosc-bbc.com/schedule/%e3%82%b3%e3%83%9f%e3%82%bb%e3%83%b3-25/
LOCATION:猿投コミセン\, 愛知県豊田市四郷町東畑70-1
CATEGORIES:ミニバス男子：練習
END:VEVENT
BEGIN:VEVENT
DTSTART;TZID=Asia/Tokyo:20240503T180000
DTEND;TZID=Asia/Tokyo:20240503T210000
DTSTAMP:20260424T055532
CREATED:20240416T114645Z
LAST-MODIFIED:20240416T114645Z
UID:15430-1714759200-1714770000@new.isatosc-bbc.com
SUMMARY:加納小
DESCRIPTION:
URL:https://new.isatosc-bbc.com/schedule/%e5%8a%a0%e7%b4%8d%e5%b0%8f-3/
LOCATION:加納小\, 愛知県豊田市加納町東股５５
CATEGORIES:ミニバス女子：練習
END:VEVENT
BEGIN:VEVENT
DTSTART;VALUE=DATE:20240504
DTEND;VALUE=DATE:20240505
DTSTAMP:20260424T055532
CREATED:20240419T121352Z
LAST-MODIFIED:20240513T095056Z
UID:15920-1714780800-1714867199@new.isatosc-bbc.com
SUMMARY:東海カップ
DESCRIPTION:
URL:https://new.isatosc-bbc.com/schedule/%e6%9d%b1%e6%b5%b7%e3%82%ab%e3%83%83%e3%83%97/
LOCATION:東海市民体育館\, 愛知県東海市高横須賀町桝形１−１
CATEGORIES:ミニバス男子：試合
END:VEVENT
BEGIN:VEVENT
DTSTART;VALUE=DATE:20240504
DTEND;VALUE=DATE:20240505
DTSTAMP:20260424T055532
CREATED:20240419T122749Z
LAST-MODIFIED:20240419T122802Z
UID:15943-1714780800-1714867199@new.isatosc-bbc.com
SUMMARY:小泉Jr.交流会
DESCRIPTION:
URL:https://new.isatosc-bbc.com/schedule/%e5%b0%8f%e6%b3%89jr-%e4%ba%a4%e6%b5%81%e4%bc%9a-2/
CATEGORIES:ジュニア：試合
END:VEVENT
BEGIN:VEVENT
DTSTART;TZID=Asia/Tokyo:20240504T130000
DTEND;TZID=Asia/Tokyo:20240504T170000
DTSTAMP:20260424T055532
CREATED:20240416T115126Z
LAST-MODIFIED:20240416T115126Z
UID:15455-1714827600-1714842000@new.isatosc-bbc.com
SUMMARY:コミセン
DESCRIPTION:
URL:https://new.isatosc-bbc.com/schedule/%e3%82%b3%e3%83%9f%e3%82%bb%e3%83%b3-39/
LOCATION:猿投コミセン\, 愛知県豊田市四郷町東畑70-1
CATEGORIES:ミニバス女子：練習
END:VEVENT
BEGIN:VEVENT
DTSTART;VALUE=DATE:20240505
DTEND;VALUE=DATE:20240506
DTSTAMP:20260424T055532
CREATED:20240419T122126Z
LAST-MODIFIED:20240419T122217Z
UID:15931-1714867200-1714953599@new.isatosc-bbc.com
SUMMARY:アイチミニバスケットボールフェスティバル
DESCRIPTION:
URL:https://new.isatosc-bbc.com/schedule/%e3%82%a2%e3%82%a4%e3%83%81%e3%83%9f%e3%83%8b%e3%83%90%e3%82%b9%e3%82%b1%e3%83%83%e3%83%88%e3%83%9c%e3%83%bc%e3%83%ab%e3%83%95%e3%82%a7%e3%82%b9%e3%83%86%e3%82%a3%e3%83%90%e3%83%ab/
CATEGORIES:ミニバス女子：試合
END:VEVENT
BEGIN:VEVENT
DTSTART;VALUE=DATE:20240505
DTEND;VALUE=DATE:20240506
DTSTAMP:20260424T055532
CREATED:20240513T095107Z
LAST-MODIFIED:20240513T095107Z
UID:18028-1714867200-1714953599@new.isatosc-bbc.com
SUMMARY:東海カップ
DESCRIPTION:
URL:https://new.isatosc-bbc.com/schedule/%e6%9d%b1%e6%b5%b7%e3%82%ab%e3%83%83%e3%83%97-3/
LOCATION:東海市民体育館\, 愛知県東海市高横須賀町桝形１−１
CATEGORIES:ミニバス男子：試合
END:VEVENT
BEGIN:VEVENT
DTSTART;TZID=Asia/Tokyo:20240505T190000
DTEND;TZID=Asia/Tokyo:20240505T210000
DTSTAMP:20260424T055532
CREATED:20240416T112809Z
LAST-MODIFIED:20240416T112809Z
UID:15337-1714935600-1714942800@new.isatosc-bbc.com
SUMMARY:猿投台中
DESCRIPTION:
URL:https://new.isatosc-bbc.com/schedule/%e7%8c%bf%e6%8a%95%e5%8f%b0%e4%b8%ad-2/
LOCATION:猿投台中\, 愛知県豊田市青木町３丁目８０
CATEGORIES:ジュニア：練習
END:VEVENT
BEGIN:VEVENT
DTSTART;TZID=Asia/Tokyo:20240507T170000
DTEND;TZID=Asia/Tokyo:20240507T210000
DTSTAMP:20260424T055532
CREATED:20240416T112918Z
LAST-MODIFIED:20240416T112918Z
UID:15345-1715101200-1715115600@new.isatosc-bbc.com
SUMMARY:コミセン
DESCRIPTION:
URL:https://new.isatosc-bbc.com/schedule/%e3%82%b3%e3%83%9f%e3%82%bb%e3%83%b3-13/
LOCATION:猿投コミセン\, 愛知県豊田市四郷町東畑70-1
CATEGORIES:ジュニア：練習
END:VEVENT
BEGIN:VEVENT
DTSTART;TZID=Asia/Tokyo:20240508T183000
DTEND;TZID=Asia/Tokyo:20240508T210000
DTSTAMP:20260424T055532
CREATED:20240416T114020Z
LAST-MODIFIED:20240515T065150Z
UID:15400-1715193000-1715202000@new.isatosc-bbc.com
SUMMARY:青木小
DESCRIPTION:
URL:https://new.isatosc-bbc.com/schedule/%e9%9d%92%e6%9c%a8%e5%b0%8f-6/
LOCATION:青木小\, 愛知県豊田市青木町４丁目５
CATEGORIES:ミニバス男子：練習
END:VEVENT
BEGIN:VEVENT
DTSTART;TZID=Asia/Tokyo:20240508T183000
DTEND;TZID=Asia/Tokyo:20240508T210000
DTSTAMP:20260424T055532
CREATED:20240416T114518Z
LAST-MODIFIED:20240515T070849Z
UID:15420-1715193000-1715202000@new.isatosc-bbc.com
SUMMARY:青木小
DESCRIPTION:
URL:https://new.isatosc-bbc.com/schedule/%e9%9d%92%e6%9c%a8%e5%b0%8f-16/
LOCATION:青木小\, 愛知県豊田市青木町４丁目５
CATEGORIES:ミニバス女子：練習
END:VEVENT
BEGIN:VEVENT
DTSTART;TZID=Asia/Tokyo:20240509T170000
DTEND;TZID=Asia/Tokyo:20240509T210000
DTSTAMP:20260424T055532
CREATED:20240416T112927Z
LAST-MODIFIED:20240416T112927Z
UID:15347-1715274000-1715288400@new.isatosc-bbc.com
SUMMARY:コミセン
DESCRIPTION:
URL:https://new.isatosc-bbc.com/schedule/%e3%82%b3%e3%83%9f%e3%82%bb%e3%83%b3-14/
LOCATION:猿投コミセン\, 愛知県豊田市四郷町東畑70-1
CATEGORIES:ジュニア：練習
END:VEVENT
BEGIN:VEVENT
DTSTART;TZID=Asia/Tokyo:20240509T180000
DTEND;TZID=Asia/Tokyo:20240509T210000
DTSTAMP:20260424T055532
CREATED:20240416T113334Z
LAST-MODIFIED:20240416T113334Z
UID:15371-1715277600-1715288400@new.isatosc-bbc.com
SUMMARY:コミセン
DESCRIPTION:
URL:https://new.isatosc-bbc.com/schedule/%e3%82%b3%e3%83%9f%e3%82%bb%e3%83%b3-26/
LOCATION:猿投コミセン\, 愛知県豊田市四郷町東畑70-1
CATEGORIES:ミニバス男子：練習
END:VEVENT
BEGIN:VEVENT
DTSTART;TZID=Asia/Tokyo:20240510T180000
DTEND;TZID=Asia/Tokyo:20240510T210000
DTSTAMP:20260424T055532
CREATED:20240416T114654Z
LAST-MODIFIED:20240416T114654Z
UID:15432-1715364000-1715374800@new.isatosc-bbc.com
SUMMARY:加納小
DESCRIPTION:
URL:https://new.isatosc-bbc.com/schedule/%e5%8a%a0%e7%b4%8d%e5%b0%8f-4/
LOCATION:加納小\, 愛知県豊田市加納町東股５５
CATEGORIES:ミニバス女子：練習
END:VEVENT
BEGIN:VEVENT
DTSTART;VALUE=DATE:20240511
DTEND;VALUE=DATE:20240512
DTSTAMP:20260424T055532
CREATED:20240419T122318Z
LAST-MODIFIED:20240419T122329Z
UID:15933-1715385600-1715471999@new.isatosc-bbc.com
SUMMARY:效範交歓会
DESCRIPTION:
URL:https://new.isatosc-bbc.com/schedule/%e6%95%88%e7%af%84%e4%ba%a4%e6%ad%93%e4%bc%9a/
CATEGORIES:ミニバス女子：試合
END:VEVENT
BEGIN:VEVENT
DTSTART;VALUE=DATE:20240511
DTEND;VALUE=DATE:20240512
DTSTAMP:20260424T055532
CREATED:20240419T151150Z
LAST-MODIFIED:20240419T151150Z
UID:15972-1715385600-1715471999@new.isatosc-bbc.com
SUMMARY:效範交歓会
DESCRIPTION:
URL:https://new.isatosc-bbc.com/schedule/%e6%95%88%e7%af%84%e4%ba%a4%e6%ad%93%e4%bc%9a-2/
CATEGORIES:ミニバス男子：試合
END:VEVENT
BEGIN:VEVENT
DTSTART;TZID=Asia/Tokyo:20240511T170000
DTEND;TZID=Asia/Tokyo:20240511T210000
DTSTAMP:20260424T055532
CREATED:20240416T112937Z
LAST-MODIFIED:20240416T112937Z
UID:15349-1715446800-1715461200@new.isatosc-bbc.com
SUMMARY:コミセン
DESCRIPTION:
URL:https://new.isatosc-bbc.com/schedule/%e3%82%b3%e3%83%9f%e3%82%bb%e3%83%b3-15/
LOCATION:猿投コミセン\, 愛知県豊田市四郷町東畑70-1
CATEGORIES:ジュニア：練習
END:VEVENT
BEGIN:VEVENT
DTSTART;VALUE=DATE:20240512
DTEND;VALUE=DATE:20240513
DTSTAMP:20260424T055532
CREATED:20240513T095427Z
LAST-MODIFIED:20240513T095427Z
UID:18033-1715472000-1715558399@new.isatosc-bbc.com
SUMMARY:武豊ランディ交歓会
DESCRIPTION:
URL:https://new.isatosc-bbc.com/schedule/%e6%ad%a6%e8%b1%8a%e3%83%a9%e3%83%b3%e3%83%87%e3%82%a3%e4%ba%a4%e6%ad%93%e4%bc%9a/
LOCATION:富貴小学校\, 愛知県知多郡武豊町冨貴郷南７９
CATEGORIES:ミニバス男子：試合
END:VEVENT
BEGIN:VEVENT
DTSTART;TZID=Asia/Tokyo:20240512T090000
DTEND;TZID=Asia/Tokyo:20240512T123000
DTSTAMP:20260424T055532
CREATED:20240416T115234Z
LAST-MODIFIED:20240513T095633Z
UID:15461-1715504400-1715517000@new.isatosc-bbc.com
SUMMARY:青木小
DESCRIPTION:
URL:https://new.isatosc-bbc.com/schedule/%e5%8a%a0%e7%b4%8d%e5%b0%8f-8/
LOCATION:青木小\, 愛知県豊田市青木町４丁目５
CATEGORIES:ミニバス女子：練習
END:VEVENT
BEGIN:VEVENT
DTSTART;TZID=Asia/Tokyo:20240512T190000
DTEND;TZID=Asia/Tokyo:20240512T210000
DTSTAMP:20260424T055532
CREATED:20240416T112819Z
LAST-MODIFIED:20240416T112819Z
UID:15339-1715540400-1715547600@new.isatosc-bbc.com
SUMMARY:猿投台中
DESCRIPTION:
URL:https://new.isatosc-bbc.com/schedule/%e7%8c%bf%e6%8a%95%e5%8f%b0%e4%b8%ad-3/
LOCATION:猿投台中\, 愛知県豊田市青木町３丁目８０
CATEGORIES:ジュニア：練習
END:VEVENT
BEGIN:VEVENT
DTSTART;TZID=Asia/Tokyo:20240514T170000
DTEND;TZID=Asia/Tokyo:20240514T210000
DTSTAMP:20260424T055532
CREATED:20240416T112951Z
LAST-MODIFIED:20240416T112951Z
UID:15351-1715706000-1715720400@new.isatosc-bbc.com
SUMMARY:コミセン
DESCRIPTION:
URL:https://new.isatosc-bbc.com/schedule/%e3%82%b3%e3%83%9f%e3%82%bb%e3%83%b3-16/
LOCATION:猿投コミセン\, 愛知県豊田市四郷町東畑70-1
CATEGORIES:ジュニア：練習
END:VEVENT
BEGIN:VEVENT
DTSTART;TZID=Asia/Tokyo:20240515T183000
DTEND;TZID=Asia/Tokyo:20240515T210000
DTSTAMP:20260424T055532
CREATED:20240416T114029Z
LAST-MODIFIED:20240515T064403Z
UID:15402-1715797800-1715806800@new.isatosc-bbc.com
SUMMARY:青木小
DESCRIPTION:
URL:https://new.isatosc-bbc.com/schedule/%e9%9d%92%e6%9c%a8%e5%b0%8f-7/
LOCATION:青木小\, 愛知県豊田市青木町４丁目５
CATEGORIES:ミニバス男子：練習
END:VEVENT
BEGIN:VEVENT
DTSTART;TZID=Asia/Tokyo:20240515T183000
DTEND;TZID=Asia/Tokyo:20240515T210000
DTSTAMP:20260424T055532
CREATED:20240416T114525Z
LAST-MODIFIED:20240515T070910Z
UID:15422-1715797800-1715806800@new.isatosc-bbc.com
SUMMARY:青木小
DESCRIPTION:
URL:https://new.isatosc-bbc.com/schedule/%e9%9d%92%e6%9c%a8%e5%b0%8f-17/
LOCATION:青木小\, 愛知県豊田市青木町４丁目５
CATEGORIES:ミニバス女子：練習
END:VEVENT
BEGIN:VEVENT
DTSTART;TZID=Asia/Tokyo:20240516T170000
DTEND;TZID=Asia/Tokyo:20240516T210000
DTSTAMP:20260424T055532
CREATED:20240416T113000Z
LAST-MODIFIED:20240416T113000Z
UID:15353-1715878800-1715893200@new.isatosc-bbc.com
SUMMARY:コミセン
DESCRIPTION:
URL:https://new.isatosc-bbc.com/schedule/%e3%82%b3%e3%83%9f%e3%82%bb%e3%83%b3-17/
LOCATION:猿投コミセン\, 愛知県豊田市四郷町東畑70-1
CATEGORIES:ジュニア：練習
END:VEVENT
BEGIN:VEVENT
DTSTART;TZID=Asia/Tokyo:20240516T180000
DTEND;TZID=Asia/Tokyo:20240516T210000
DTSTAMP:20260424T055532
CREATED:20240416T113346Z
LAST-MODIFIED:20240416T113346Z
UID:15373-1715882400-1715893200@new.isatosc-bbc.com
SUMMARY:コミセン
DESCRIPTION:
URL:https://new.isatosc-bbc.com/schedule/%e3%82%b3%e3%83%9f%e3%82%bb%e3%83%b3-27/
LOCATION:猿投コミセン\, 愛知県豊田市四郷町東畑70-1
CATEGORIES:ミニバス男子：練習
END:VEVENT
BEGIN:VEVENT
DTSTART;TZID=Asia/Tokyo:20240517T180000
DTEND;TZID=Asia/Tokyo:20240517T210000
DTSTAMP:20260424T055532
CREATED:20240416T114706Z
LAST-MODIFIED:20240416T114706Z
UID:15434-1715968800-1715979600@new.isatosc-bbc.com
SUMMARY:加納小
DESCRIPTION:
URL:https://new.isatosc-bbc.com/schedule/%e5%8a%a0%e7%b4%8d%e5%b0%8f-5/
LOCATION:加納小\, 愛知県豊田市加納町東股５５
CATEGORIES:ミニバス女子：練習
END:VEVENT
END:VCALENDAR