BEGIN:VCALENDAR
VERSION:2.0
PRODID:-//いさとSCバスケットボールクラブ - 愛知県 豊田市 ミニバス 練習見学・体験 随時受付中 - ECPv6.5.0//NONSGML v1.0//EN
CALSCALE:GREGORIAN
METHOD:PUBLISH
X-ORIGINAL-URL:https://new.isatosc-bbc.com
X-WR-CALDESC:いさとSCバスケットボールクラブ - 愛知県 豊田市 ミニバス 練習見学・体験 随時受付中 のイベント
REFRESH-INTERVAL;VALUE=DURATION:PT1H
X-Robots-Tag:noindex
X-PUBLISHED-TTL:PT1H
BEGIN:VTIMEZONE
TZID:Asia/Tokyo
BEGIN:STANDARD
TZOFFSETFROM:+0900
TZOFFSETTO:+0900
TZNAME:JST
DTSTART:20240101T000000
END:STANDARD
END:VTIMEZONE
BEGIN:VEVENT
DTSTART;TZID=Asia/Tokyo:20240606T170000
DTEND;TZID=Asia/Tokyo:20240606T210000
DTSTAMP:20260424T041713
CREATED:20240513T100442Z
LAST-MODIFIED:20240513T100442Z
UID:18062-1717693200-1717707600@new.isatosc-bbc.com
SUMMARY:コミセン
DESCRIPTION:
URL:https://new.isatosc-bbc.com/schedule/%e3%82%b3%e3%83%9f%e3%82%bb%e3%83%b3-47/
LOCATION:猿投コミセン\, 愛知県豊田市四郷町東畑70-1
CATEGORIES:ジュニア：練習
END:VEVENT
BEGIN:VEVENT
DTSTART;TZID=Asia/Tokyo:20240606T180000
DTEND;TZID=Asia/Tokyo:20240606T210000
DTSTAMP:20260424T041713
CREATED:20240513T101126Z
LAST-MODIFIED:20240513T101126Z
UID:18098-1717696800-1717707600@new.isatosc-bbc.com
SUMMARY:コミセン
DESCRIPTION:
URL:https://new.isatosc-bbc.com/schedule/%e3%82%b3%e3%83%9f%e3%82%bb%e3%83%b3-55/
LOCATION:猿投コミセン\, 愛知県豊田市四郷町東畑70-1
CATEGORIES:ミニバス男子：練習
END:VEVENT
BEGIN:VEVENT
DTSTART;TZID=Asia/Tokyo:20240607T170000
DTEND;TZID=Asia/Tokyo:20240607T210000
DTSTAMP:20260424T041713
CREATED:20240513T101603Z
LAST-MODIFIED:20240524T040617Z
UID:18119-1717779600-1717794000@new.isatosc-bbc.com
SUMMARY:運動公園
DESCRIPTION:オートタウンカップ準備
URL:https://new.isatosc-bbc.com/schedule/%e9%81%8b%e5%8b%95%e5%85%ac%e5%9c%92%ef%bc%88%e6%ba%96%e5%82%99%ef%bc%89/
LOCATION:豊田市運動公園\, 愛知県豊田市高町東山4-97
CATEGORIES:ミニバス男子：練習
END:VEVENT
BEGIN:VEVENT
DTSTART;TZID=Asia/Tokyo:20240607T170000
DTEND;TZID=Asia/Tokyo:20240607T210000
DTSTAMP:20260424T041713
CREATED:20240513T103644Z
LAST-MODIFIED:20240524T040646Z
UID:18155-1717779600-1717794000@new.isatosc-bbc.com
SUMMARY:運動公園
DESCRIPTION:
URL:https://new.isatosc-bbc.com/schedule/%e9%81%8b%e5%8b%95%e5%85%ac%e5%9c%92%ef%bc%88%e6%ba%96%e5%82%99%ef%bc%89-2/
LOCATION:豊田市運動公園\, 愛知県豊田市高町東山4-97
CATEGORIES:ミニバス女子：練習
END:VEVENT
BEGIN:VEVENT
DTSTART;VALUE=DATE:20240608
DTEND;VALUE=DATE:20240609
DTSTAMP:20260424T041713
CREATED:20240513T101712Z
LAST-MODIFIED:20240513T101712Z
UID:18121-1717804800-1717891199@new.isatosc-bbc.com
SUMMARY:オートタウンカップ
DESCRIPTION:
URL:https://new.isatosc-bbc.com/schedule/%e3%82%aa%e3%83%bc%e3%83%88%e3%82%bf%e3%82%a6%e3%83%b3%e3%82%ab%e3%83%83%e3%83%97/
LOCATION:豊田市運動公園\, 愛知県豊田市高町東山4-97
CATEGORIES:ミニバス男子：試合
END:VEVENT
BEGIN:VEVENT
DTSTART;VALUE=DATE:20240608
DTEND;VALUE=DATE:20240609
DTSTAMP:20260424T041713
CREATED:20240513T103515Z
LAST-MODIFIED:20240513T103515Z
UID:18151-1717804800-1717891199@new.isatosc-bbc.com
SUMMARY:オートタウンカップ
DESCRIPTION:
URL:https://new.isatosc-bbc.com/schedule/%e3%82%aa%e3%83%bc%e3%83%88%e3%82%bf%e3%82%a6%e3%83%b3%e3%82%ab%e3%83%83%e3%83%97-3/
LOCATION:豊田市運動公園\, 愛知県豊田市高町東山4-97
CATEGORIES:ミニバス女子：試合
END:VEVENT
BEGIN:VEVENT
DTSTART;TZID=Asia/Tokyo:20240608T180000
DTEND;TZID=Asia/Tokyo:20240608T210000
DTSTAMP:20260424T041713
CREATED:20240513T100648Z
LAST-MODIFIED:20240513T100648Z
UID:18078-1717869600-1717880400@new.isatosc-bbc.com
SUMMARY:運動公園
DESCRIPTION:
URL:https://new.isatosc-bbc.com/schedule/%e9%81%8b%e5%8b%95%e5%85%ac%e5%9c%92/
LOCATION:豊田市運動公園\, 愛知県豊田市高町東山4-97
CATEGORIES:ジュニア：練習
END:VEVENT
BEGIN:VEVENT
DTSTART;VALUE=DATE:20240609
DTEND;VALUE=DATE:20240610
DTSTAMP:20260424T041713
CREATED:20240513T101723Z
LAST-MODIFIED:20240513T101723Z
UID:18123-1717891200-1717977599@new.isatosc-bbc.com
SUMMARY:オートタウンカップ
DESCRIPTION:
URL:https://new.isatosc-bbc.com/schedule/%e3%82%aa%e3%83%bc%e3%83%88%e3%82%bf%e3%82%a6%e3%83%b3%e3%82%ab%e3%83%83%e3%83%97-2/
LOCATION:豊田市運動公園\, 愛知県豊田市高町東山4-97
CATEGORIES:ミニバス男子：試合
END:VEVENT
BEGIN:VEVENT
DTSTART;VALUE=DATE:20240609
DTEND;VALUE=DATE:20240610
DTSTAMP:20260424T041713
CREATED:20240513T103555Z
LAST-MODIFIED:20240513T103555Z
UID:18153-1717891200-1717977599@new.isatosc-bbc.com
SUMMARY:オートタウンカップ
DESCRIPTION:
URL:https://new.isatosc-bbc.com/schedule/%e3%82%aa%e3%83%bc%e3%83%88%e3%82%bf%e3%82%a6%e3%83%b3%e3%82%ab%e3%83%83%e3%83%97-4/
LOCATION:豊田市運動公園\, 愛知県豊田市高町東山4-97
CATEGORIES:ミニバス女子：試合
END:VEVENT
BEGIN:VEVENT
DTSTART;TZID=Asia/Tokyo:20240609T180000
DTEND;TZID=Asia/Tokyo:20240609T210000
DTSTAMP:20260424T041713
CREATED:20240513T100756Z
LAST-MODIFIED:20240602T140740Z
UID:18082-1717956000-1717966800@new.isatosc-bbc.com
SUMMARY:猿投台中
DESCRIPTION:
URL:https://new.isatosc-bbc.com/schedule/%e7%8c%bf%e6%8a%95%e5%8f%b0%e4%b8%ad-6/
LOCATION:猿投台中\, 愛知県豊田市青木町３丁目８０
CATEGORIES:ジュニア：練習
END:VEVENT
BEGIN:VEVENT
DTSTART;TZID=Asia/Tokyo:20240611T170000
DTEND;TZID=Asia/Tokyo:20240611T210000
DTSTAMP:20260424T041713
CREATED:20240513T100408Z
LAST-MODIFIED:20240513T100408Z
UID:18056-1718125200-1718139600@new.isatosc-bbc.com
SUMMARY:コミセン
DESCRIPTION:
URL:https://new.isatosc-bbc.com/schedule/%e3%82%b3%e3%83%9f%e3%82%bb%e3%83%b3-44/
LOCATION:猿投コミセン\, 愛知県豊田市四郷町東畑70-1
CATEGORIES:ジュニア：練習
END:VEVENT
BEGIN:VEVENT
DTSTART;TZID=Asia/Tokyo:20240612T183000
DTEND;TZID=Asia/Tokyo:20240612T210000
DTSTAMP:20260424T041713
CREATED:20240513T101015Z
LAST-MODIFIED:20240515T064817Z
UID:18092-1718217000-1718226000@new.isatosc-bbc.com
SUMMARY:青木小
DESCRIPTION:
URL:https://new.isatosc-bbc.com/schedule/%e9%9d%92%e6%9c%a8%e5%b0%8f-35/
LOCATION:青木小\, 愛知県豊田市青木町４丁目５
CATEGORIES:ミニバス男子：練習
END:VEVENT
BEGIN:VEVENT
DTSTART;TZID=Asia/Tokyo:20240612T183000
DTEND;TZID=Asia/Tokyo:20240612T210000
DTSTAMP:20260424T041713
CREATED:20240513T104020Z
LAST-MODIFIED:20240515T071047Z
UID:18174-1718217000-1718226000@new.isatosc-bbc.com
SUMMARY:青木小
DESCRIPTION:
URL:https://new.isatosc-bbc.com/schedule/%e9%9d%92%e6%9c%a8%e5%b0%8f-40/
LOCATION:青木小\, 愛知県豊田市青木町４丁目５
CATEGORIES:ミニバス女子：練習
END:VEVENT
BEGIN:VEVENT
DTSTART;TZID=Asia/Tokyo:20240613T170000
DTEND;TZID=Asia/Tokyo:20240613T210000
DTSTAMP:20260424T041713
CREATED:20240513T100453Z
LAST-MODIFIED:20240513T100453Z
UID:18064-1718298000-1718312400@new.isatosc-bbc.com
SUMMARY:コミセン
DESCRIPTION:
URL:https://new.isatosc-bbc.com/schedule/%e3%82%b3%e3%83%9f%e3%82%bb%e3%83%b3-48/
LOCATION:猿投コミセン\, 愛知県豊田市四郷町東畑70-1
CATEGORIES:ジュニア：練習
END:VEVENT
BEGIN:VEVENT
DTSTART;TZID=Asia/Tokyo:20240613T180000
DTEND;TZID=Asia/Tokyo:20240613T210000
DTSTAMP:20260424T041713
CREATED:20240513T101135Z
LAST-MODIFIED:20240513T101135Z
UID:18100-1718301600-1718312400@new.isatosc-bbc.com
SUMMARY:コミセン
DESCRIPTION:
URL:https://new.isatosc-bbc.com/schedule/%e3%82%b3%e3%83%9f%e3%82%bb%e3%83%b3-56/
LOCATION:猿投コミセン\, 愛知県豊田市四郷町東畑70-1
CATEGORIES:ミニバス男子：練習
END:VEVENT
BEGIN:VEVENT
DTSTART;TZID=Asia/Tokyo:20240614T180000
DTEND;TZID=Asia/Tokyo:20240614T210000
DTSTAMP:20260424T041713
CREATED:20240416T114719Z
LAST-MODIFIED:20240513T104130Z
UID:15438-1718388000-1718398800@new.isatosc-bbc.com
SUMMARY:加納小
DESCRIPTION:
URL:https://new.isatosc-bbc.com/schedule/%e5%8a%a0%e7%b4%8d%e5%b0%8f-7/
LOCATION:加納小\, 愛知県豊田市加納町東股５５
CATEGORIES:ミニバス女子：練習
END:VEVENT
BEGIN:VEVENT
DTSTART;TZID=Asia/Tokyo:20240615T130000
DTEND;TZID=Asia/Tokyo:20240615T170000
DTSTAMP:20260424T041713
CREATED:20240513T101335Z
LAST-MODIFIED:20240513T101335Z
UID:18109-1718456400-1718470800@new.isatosc-bbc.com
SUMMARY:コミセン
DESCRIPTION:
URL:https://new.isatosc-bbc.com/schedule/%e3%82%b3%e3%83%9f%e3%82%bb%e3%83%b3-60/
LOCATION:猿投コミセン\, 愛知県豊田市四郷町東畑70-1
CATEGORIES:ミニバス男子：練習
END:VEVENT
BEGIN:VEVENT
DTSTART;TZID=Asia/Tokyo:20240615T130000
DTEND;TZID=Asia/Tokyo:20240615T170000
DTSTAMP:20260424T041713
CREATED:20240513T103809Z
LAST-MODIFIED:20240513T103809Z
UID:18161-1718456400-1718470800@new.isatosc-bbc.com
SUMMARY:コミセン
DESCRIPTION:
URL:https://new.isatosc-bbc.com/schedule/%e3%82%b3%e3%83%9f%e3%82%bb%e3%83%b3-68/
LOCATION:猿投コミセン\, 愛知県豊田市四郷町東畑70-1
CATEGORIES:ミニバス女子：練習
END:VEVENT
BEGIN:VEVENT
DTSTART;TZID=Asia/Tokyo:20240615T170000
DTEND;TZID=Asia/Tokyo:20240615T210000
DTSTAMP:20260424T041713
CREATED:20240513T100542Z
LAST-MODIFIED:20240513T100542Z
UID:18072-1718470800-1718485200@new.isatosc-bbc.com
SUMMARY:コミセン
DESCRIPTION:
URL:https://new.isatosc-bbc.com/schedule/%e3%82%b3%e3%83%9f%e3%82%bb%e3%83%b3-52/
LOCATION:猿投コミセン\, 愛知県豊田市四郷町東畑70-1
CATEGORIES:ジュニア：練習
END:VEVENT
BEGIN:VEVENT
DTSTART;VALUE=DATE:20240616
DTEND;VALUE=DATE:20240617
DTSTAMP:20260424T041713
CREATED:20240513T104030Z
LAST-MODIFIED:20240515T095830Z
UID:18176-1718496000-1718582399@new.isatosc-bbc.com
SUMMARY:武豊ランディ交歓会
DESCRIPTION:
URL:https://new.isatosc-bbc.com/schedule/%e9%9d%92%e6%9c%a8%e5%b0%8f-41/
CATEGORIES:ミニバス女子：試合
END:VEVENT
BEGIN:VEVENT
DTSTART;VALUE=DATE:20240616
DTEND;VALUE=DATE:20240617
DTSTAMP:20260424T041713
CREATED:20240513T101420Z
LAST-MODIFIED:20240602T221913Z
UID:18115-1718496000-1718582399@new.isatosc-bbc.com
SUMMARY:武豊ランディ交歓会
DESCRIPTION:
URL:https://new.isatosc-bbc.com/schedule/%e6%ad%a6%e8%b1%8a%e3%83%a9%e3%83%b3%e3%83%87%e3%82%a3%e4%ba%a4%e6%ad%93%e4%bc%9a-2/
CATEGORIES:ミニバス男子：試合
END:VEVENT
BEGIN:VEVENT
DTSTART;TZID=Asia/Tokyo:20240616T180000
DTEND;TZID=Asia/Tokyo:20240616T210000
DTSTAMP:20260424T041713
CREATED:20240513T100807Z
LAST-MODIFIED:20240513T100807Z
UID:18084-1718560800-1718571600@new.isatosc-bbc.com
SUMMARY:猿投台中
DESCRIPTION:
URL:https://new.isatosc-bbc.com/schedule/%e7%8c%bf%e6%8a%95%e5%8f%b0%e4%b8%ad-7/
LOCATION:猿投台中\, 愛知県豊田市青木町３丁目８０
CATEGORIES:ジュニア：練習
END:VEVENT
BEGIN:VEVENT
DTSTART;TZID=Asia/Tokyo:20240618T170000
DTEND;TZID=Asia/Tokyo:20240618T210000
DTSTAMP:20260424T041713
CREATED:20240513T100418Z
LAST-MODIFIED:20240513T100418Z
UID:18058-1718730000-1718744400@new.isatosc-bbc.com
SUMMARY:コミセン
DESCRIPTION:
URL:https://new.isatosc-bbc.com/schedule/%e3%82%b3%e3%83%9f%e3%82%bb%e3%83%b3-45/
LOCATION:猿投コミセン\, 愛知県豊田市四郷町東畑70-1
CATEGORIES:ジュニア：練習
END:VEVENT
BEGIN:VEVENT
DTSTART;TZID=Asia/Tokyo:20240619T183000
DTEND;TZID=Asia/Tokyo:20240619T210000
DTSTAMP:20260424T041713
CREATED:20240513T101024Z
LAST-MODIFIED:20240515T064907Z
UID:18094-1718821800-1718830800@new.isatosc-bbc.com
SUMMARY:青木小
DESCRIPTION:
URL:https://new.isatosc-bbc.com/schedule/%e9%9d%92%e6%9c%a8%e5%b0%8f-37/
LOCATION:青木小\, 愛知県豊田市青木町４丁目５
CATEGORIES:ミニバス男子：練習
END:VEVENT
BEGIN:VEVENT
DTSTART;TZID=Asia/Tokyo:20240619T183000
DTEND;TZID=Asia/Tokyo:20240619T210000
DTSTAMP:20260424T041713
CREATED:20240515T095906Z
LAST-MODIFIED:20240515T095906Z
UID:18520-1718821800-1718830800@new.isatosc-bbc.com
SUMMARY:青木小
DESCRIPTION:
URL:https://new.isatosc-bbc.com/schedule/%e9%9d%92%e6%9c%a8%e5%b0%8f-51/
LOCATION:青木小\, 愛知県豊田市青木町４丁目５
CATEGORIES:ミニバス女子：練習
END:VEVENT
BEGIN:VEVENT
DTSTART;TZID=Asia/Tokyo:20240620T170000
DTEND;TZID=Asia/Tokyo:20240620T210000
DTSTAMP:20260424T041713
CREATED:20240513T100503Z
LAST-MODIFIED:20240513T100503Z
UID:18066-1718902800-1718917200@new.isatosc-bbc.com
SUMMARY:コミセン
DESCRIPTION:
URL:https://new.isatosc-bbc.com/schedule/%e3%82%b3%e3%83%9f%e3%82%bb%e3%83%b3-49/
LOCATION:猿投コミセン\, 愛知県豊田市四郷町東畑70-1
CATEGORIES:ジュニア：練習
END:VEVENT
BEGIN:VEVENT
DTSTART;TZID=Asia/Tokyo:20240620T180000
DTEND;TZID=Asia/Tokyo:20240620T210000
DTSTAMP:20260424T041713
CREATED:20240513T101144Z
LAST-MODIFIED:20240513T101144Z
UID:18102-1718906400-1718917200@new.isatosc-bbc.com
SUMMARY:コミセン
DESCRIPTION:
URL:https://new.isatosc-bbc.com/schedule/%e3%82%b3%e3%83%9f%e3%82%bb%e3%83%b3-57/
LOCATION:猿投コミセン\, 愛知県豊田市四郷町東畑70-1
CATEGORIES:ミニバス男子：練習
END:VEVENT
BEGIN:VEVENT
DTSTART;TZID=Asia/Tokyo:20240621T180000
DTEND;TZID=Asia/Tokyo:20240621T210000
DTSTAMP:20260424T041713
CREATED:20240513T104140Z
LAST-MODIFIED:20240513T104140Z
UID:18181-1718992800-1719003600@new.isatosc-bbc.com
SUMMARY:加納小
DESCRIPTION:
URL:https://new.isatosc-bbc.com/schedule/%e5%8a%a0%e7%b4%8d%e5%b0%8f-10/
LOCATION:加納小\, 愛知県豊田市加納町東股５５
CATEGORIES:ミニバス女子：練習
END:VEVENT
BEGIN:VEVENT
DTSTART;VALUE=DATE:20240622
DTEND;VALUE=DATE:20240623
DTSTAMP:20260424T041713
CREATED:20240513T103335Z
LAST-MODIFIED:20240513T103335Z
UID:18143-1719014400-1719100799@new.isatosc-bbc.com
SUMMARY:ダンク中津川交歓会
DESCRIPTION:
URL:https://new.isatosc-bbc.com/schedule/%e3%83%80%e3%83%b3%e3%82%af%e4%b8%ad%e6%b4%a5%e5%b7%9d%e4%ba%a4%e6%ad%93%e4%bc%9a/
LOCATION:馬籠ふるさと学校\, 岐阜県中津川市馬籠４７９７−２３０
CATEGORIES:ミニバス男子：試合
END:VEVENT
BEGIN:VEVENT
DTSTART;VALUE=DATE:20240622
DTEND;VALUE=DATE:20240623
DTSTAMP:20260424T041713
CREATED:20240513T103420Z
LAST-MODIFIED:20240513T103420Z
UID:18147-1719014400-1719100799@new.isatosc-bbc.com
SUMMARY:ダンク中津川交歓会
DESCRIPTION:
URL:https://new.isatosc-bbc.com/schedule/%e3%83%80%e3%83%b3%e3%82%af%e4%b8%ad%e6%b4%a5%e5%b7%9d%e4%ba%a4%e6%ad%93%e4%bc%9a-3/
LOCATION:馬籠ふるさと学校\, 岐阜県中津川市馬籠４７９７−２３０
CATEGORIES:ミニバス女子：試合
END:VEVENT
END:VCALENDAR