BEGIN:VCALENDAR
VERSION:2.0
PRODID:-//いさとSCバスケットボールクラブ - 愛知県 豊田市 ミニバス 練習見学・体験 随時受付中 - ECPv6.5.0//NONSGML v1.0//EN
CALSCALE:GREGORIAN
METHOD:PUBLISH
X-ORIGINAL-URL:https://new.isatosc-bbc.com
X-WR-CALDESC:いさとSCバスケットボールクラブ - 愛知県 豊田市 ミニバス 練習見学・体験 随時受付中 のイベント
REFRESH-INTERVAL;VALUE=DURATION:PT1H
X-Robots-Tag:noindex
X-PUBLISHED-TTL:PT1H
BEGIN:VTIMEZONE
TZID:Asia/Tokyo
BEGIN:STANDARD
TZOFFSETFROM:+0900
TZOFFSETTO:+0900
TZNAME:JST
DTSTART:20240101T000000
END:STANDARD
END:VTIMEZONE
BEGIN:VEVENT
DTSTART;VALUE=DATE:20240616
DTEND;VALUE=DATE:20240617
DTSTAMP:20260424T041725
CREATED:20240513T104030Z
LAST-MODIFIED:20240515T095830Z
UID:18176-1718496000-1718582399@new.isatosc-bbc.com
SUMMARY:武豊ランディ交歓会
DESCRIPTION:
URL:https://new.isatosc-bbc.com/schedule/%e9%9d%92%e6%9c%a8%e5%b0%8f-41/
CATEGORIES:ミニバス女子：試合
END:VEVENT
BEGIN:VEVENT
DTSTART;VALUE=DATE:20240616
DTEND;VALUE=DATE:20240617
DTSTAMP:20260424T041725
CREATED:20240513T101420Z
LAST-MODIFIED:20240602T221913Z
UID:18115-1718496000-1718582399@new.isatosc-bbc.com
SUMMARY:武豊ランディ交歓会
DESCRIPTION:
URL:https://new.isatosc-bbc.com/schedule/%e6%ad%a6%e8%b1%8a%e3%83%a9%e3%83%b3%e3%83%87%e3%82%a3%e4%ba%a4%e6%ad%93%e4%bc%9a-2/
CATEGORIES:ミニバス男子：試合
END:VEVENT
BEGIN:VEVENT
DTSTART;TZID=Asia/Tokyo:20240616T180000
DTEND;TZID=Asia/Tokyo:20240616T210000
DTSTAMP:20260424T041725
CREATED:20240513T100807Z
LAST-MODIFIED:20240513T100807Z
UID:18084-1718560800-1718571600@new.isatosc-bbc.com
SUMMARY:猿投台中
DESCRIPTION:
URL:https://new.isatosc-bbc.com/schedule/%e7%8c%bf%e6%8a%95%e5%8f%b0%e4%b8%ad-7/
LOCATION:猿投台中\, 愛知県豊田市青木町３丁目８０
CATEGORIES:ジュニア：練習
END:VEVENT
BEGIN:VEVENT
DTSTART;TZID=Asia/Tokyo:20240618T170000
DTEND;TZID=Asia/Tokyo:20240618T210000
DTSTAMP:20260424T041725
CREATED:20240513T100418Z
LAST-MODIFIED:20240513T100418Z
UID:18058-1718730000-1718744400@new.isatosc-bbc.com
SUMMARY:コミセン
DESCRIPTION:
URL:https://new.isatosc-bbc.com/schedule/%e3%82%b3%e3%83%9f%e3%82%bb%e3%83%b3-45/
LOCATION:猿投コミセン\, 愛知県豊田市四郷町東畑70-1
CATEGORIES:ジュニア：練習
END:VEVENT
BEGIN:VEVENT
DTSTART;TZID=Asia/Tokyo:20240619T183000
DTEND;TZID=Asia/Tokyo:20240619T210000
DTSTAMP:20260424T041725
CREATED:20240513T101024Z
LAST-MODIFIED:20240515T064907Z
UID:18094-1718821800-1718830800@new.isatosc-bbc.com
SUMMARY:青木小
DESCRIPTION:
URL:https://new.isatosc-bbc.com/schedule/%e9%9d%92%e6%9c%a8%e5%b0%8f-37/
LOCATION:青木小\, 愛知県豊田市青木町４丁目５
CATEGORIES:ミニバス男子：練習
END:VEVENT
BEGIN:VEVENT
DTSTART;TZID=Asia/Tokyo:20240619T183000
DTEND;TZID=Asia/Tokyo:20240619T210000
DTSTAMP:20260424T041725
CREATED:20240515T095906Z
LAST-MODIFIED:20240515T095906Z
UID:18520-1718821800-1718830800@new.isatosc-bbc.com
SUMMARY:青木小
DESCRIPTION:
URL:https://new.isatosc-bbc.com/schedule/%e9%9d%92%e6%9c%a8%e5%b0%8f-51/
LOCATION:青木小\, 愛知県豊田市青木町４丁目５
CATEGORIES:ミニバス女子：練習
END:VEVENT
BEGIN:VEVENT
DTSTART;TZID=Asia/Tokyo:20240620T170000
DTEND;TZID=Asia/Tokyo:20240620T210000
DTSTAMP:20260424T041725
CREATED:20240513T100503Z
LAST-MODIFIED:20240513T100503Z
UID:18066-1718902800-1718917200@new.isatosc-bbc.com
SUMMARY:コミセン
DESCRIPTION:
URL:https://new.isatosc-bbc.com/schedule/%e3%82%b3%e3%83%9f%e3%82%bb%e3%83%b3-49/
LOCATION:猿投コミセン\, 愛知県豊田市四郷町東畑70-1
CATEGORIES:ジュニア：練習
END:VEVENT
BEGIN:VEVENT
DTSTART;TZID=Asia/Tokyo:20240620T180000
DTEND;TZID=Asia/Tokyo:20240620T210000
DTSTAMP:20260424T041725
CREATED:20240513T101144Z
LAST-MODIFIED:20240513T101144Z
UID:18102-1718906400-1718917200@new.isatosc-bbc.com
SUMMARY:コミセン
DESCRIPTION:
URL:https://new.isatosc-bbc.com/schedule/%e3%82%b3%e3%83%9f%e3%82%bb%e3%83%b3-57/
LOCATION:猿投コミセン\, 愛知県豊田市四郷町東畑70-1
CATEGORIES:ミニバス男子：練習
END:VEVENT
BEGIN:VEVENT
DTSTART;TZID=Asia/Tokyo:20240621T180000
DTEND;TZID=Asia/Tokyo:20240621T210000
DTSTAMP:20260424T041725
CREATED:20240513T104140Z
LAST-MODIFIED:20240513T104140Z
UID:18181-1718992800-1719003600@new.isatosc-bbc.com
SUMMARY:加納小
DESCRIPTION:
URL:https://new.isatosc-bbc.com/schedule/%e5%8a%a0%e7%b4%8d%e5%b0%8f-10/
LOCATION:加納小\, 愛知県豊田市加納町東股５５
CATEGORIES:ミニバス女子：練習
END:VEVENT
BEGIN:VEVENT
DTSTART;VALUE=DATE:20240622
DTEND;VALUE=DATE:20240623
DTSTAMP:20260424T041725
CREATED:20240513T103335Z
LAST-MODIFIED:20240513T103335Z
UID:18143-1719014400-1719100799@new.isatosc-bbc.com
SUMMARY:ダンク中津川交歓会
DESCRIPTION:
URL:https://new.isatosc-bbc.com/schedule/%e3%83%80%e3%83%b3%e3%82%af%e4%b8%ad%e6%b4%a5%e5%b7%9d%e4%ba%a4%e6%ad%93%e4%bc%9a/
LOCATION:馬籠ふるさと学校\, 岐阜県中津川市馬籠４７９７−２３０
CATEGORIES:ミニバス男子：試合
END:VEVENT
BEGIN:VEVENT
DTSTART;VALUE=DATE:20240622
DTEND;VALUE=DATE:20240623
DTSTAMP:20260424T041725
CREATED:20240513T103420Z
LAST-MODIFIED:20240513T103420Z
UID:18147-1719014400-1719100799@new.isatosc-bbc.com
SUMMARY:ダンク中津川交歓会
DESCRIPTION:
URL:https://new.isatosc-bbc.com/schedule/%e3%83%80%e3%83%b3%e3%82%af%e4%b8%ad%e6%b4%a5%e5%b7%9d%e4%ba%a4%e6%ad%93%e4%bc%9a-3/
LOCATION:馬籠ふるさと学校\, 岐阜県中津川市馬籠４７９７−２３０
CATEGORIES:ミニバス女子：試合
END:VEVENT
BEGIN:VEVENT
DTSTART;TZID=Asia/Tokyo:20240622T170000
DTEND;TZID=Asia/Tokyo:20240622T210000
DTSTAMP:20260424T041725
CREATED:20240513T100554Z
LAST-MODIFIED:20240513T100554Z
UID:18074-1719075600-1719090000@new.isatosc-bbc.com
SUMMARY:コミセン
DESCRIPTION:
URL:https://new.isatosc-bbc.com/schedule/%e3%82%b3%e3%83%9f%e3%82%bb%e3%83%b3-53/
LOCATION:猿投コミセン\, 愛知県豊田市四郷町東畑70-1
CATEGORIES:ジュニア：練習
END:VEVENT
BEGIN:VEVENT
DTSTART;VALUE=DATE:20240623
DTEND;VALUE=DATE:20240624
DTSTAMP:20260424T041725
CREATED:20240513T103350Z
LAST-MODIFIED:20240513T103350Z
UID:18145-1719100800-1719187199@new.isatosc-bbc.com
SUMMARY:ダンク中津川交歓会
DESCRIPTION:
URL:https://new.isatosc-bbc.com/schedule/%e3%83%80%e3%83%b3%e3%82%af%e4%b8%ad%e6%b4%a5%e5%b7%9d%e4%ba%a4%e6%ad%93%e4%bc%9a-2/
LOCATION:馬籠ふるさと学校\, 岐阜県中津川市馬籠４７９７−２３０
CATEGORIES:ミニバス男子：試合
END:VEVENT
BEGIN:VEVENT
DTSTART;VALUE=DATE:20240623
DTEND;VALUE=DATE:20240624
DTSTAMP:20260424T041725
CREATED:20240513T103436Z
LAST-MODIFIED:20240513T103436Z
UID:18149-1719100800-1719187199@new.isatosc-bbc.com
SUMMARY:ダンク中津川交歓会
DESCRIPTION:
URL:https://new.isatosc-bbc.com/schedule/%e3%83%80%e3%83%b3%e3%82%af%e4%b8%ad%e6%b4%a5%e5%b7%9d%e4%ba%a4%e6%ad%93%e4%bc%9a-4/
LOCATION:馬籠ふるさと学校\, 岐阜県中津川市馬籠４７９７−２３０
CATEGORIES:ミニバス女子：試合
END:VEVENT
BEGIN:VEVENT
DTSTART;TZID=Asia/Tokyo:20240623T180000
DTEND;TZID=Asia/Tokyo:20240623T210000
DTSTAMP:20260424T041725
CREATED:20240513T100818Z
LAST-MODIFIED:20240513T100818Z
UID:18086-1719165600-1719176400@new.isatosc-bbc.com
SUMMARY:猿投台中
DESCRIPTION:
URL:https://new.isatosc-bbc.com/schedule/%e7%8c%bf%e6%8a%95%e5%8f%b0%e4%b8%ad-8/
LOCATION:猿投台中\, 愛知県豊田市青木町３丁目８０
CATEGORIES:ジュニア：練習
END:VEVENT
BEGIN:VEVENT
DTSTART;TZID=Asia/Tokyo:20240625T170000
DTEND;TZID=Asia/Tokyo:20240625T210000
DTSTAMP:20260424T041725
CREATED:20240513T100429Z
LAST-MODIFIED:20240513T100429Z
UID:18060-1719334800-1719349200@new.isatosc-bbc.com
SUMMARY:コミセン
DESCRIPTION:
URL:https://new.isatosc-bbc.com/schedule/%e3%82%b3%e3%83%9f%e3%82%bb%e3%83%b3-46/
LOCATION:猿投コミセン\, 愛知県豊田市四郷町東畑70-1
CATEGORIES:ジュニア：練習
END:VEVENT
BEGIN:VEVENT
DTSTART;TZID=Asia/Tokyo:20240626T183000
DTEND;TZID=Asia/Tokyo:20240626T210000
DTSTAMP:20260424T041725
CREATED:20240513T101036Z
LAST-MODIFIED:20240515T064940Z
UID:18096-1719426600-1719435600@new.isatosc-bbc.com
SUMMARY:青木小
DESCRIPTION:
URL:https://new.isatosc-bbc.com/schedule/%e9%9d%92%e6%9c%a8%e5%b0%8f-38/
LOCATION:青木小\, 愛知県豊田市青木町４丁目５
CATEGORIES:ミニバス男子：練習
END:VEVENT
BEGIN:VEVENT
DTSTART;TZID=Asia/Tokyo:20240626T183000
DTEND;TZID=Asia/Tokyo:20240626T210000
DTSTAMP:20260424T041725
CREATED:20240513T104039Z
LAST-MODIFIED:20240515T071118Z
UID:18178-1719426600-1719435600@new.isatosc-bbc.com
SUMMARY:青木小
DESCRIPTION:
URL:https://new.isatosc-bbc.com/schedule/%e9%9d%92%e6%9c%a8%e5%b0%8f-42/
LOCATION:青木小\, 愛知県豊田市青木町４丁目５
CATEGORIES:ミニバス女子：練習
END:VEVENT
BEGIN:VEVENT
DTSTART;TZID=Asia/Tokyo:20240627T170000
DTEND;TZID=Asia/Tokyo:20240627T210000
DTSTAMP:20260424T041725
CREATED:20240513T100512Z
LAST-MODIFIED:20240513T100512Z
UID:18068-1719507600-1719522000@new.isatosc-bbc.com
SUMMARY:コミセン
DESCRIPTION:
URL:https://new.isatosc-bbc.com/schedule/%e3%82%b3%e3%83%9f%e3%82%bb%e3%83%b3-50/
LOCATION:猿投コミセン\, 愛知県豊田市四郷町東畑70-1
CATEGORIES:ジュニア：練習
END:VEVENT
BEGIN:VEVENT
DTSTART;TZID=Asia/Tokyo:20240627T180000
DTEND;TZID=Asia/Tokyo:20240627T210000
DTSTAMP:20260424T041725
CREATED:20240513T101154Z
LAST-MODIFIED:20240513T101154Z
UID:18104-1719511200-1719522000@new.isatosc-bbc.com
SUMMARY:コミセン
DESCRIPTION:
URL:https://new.isatosc-bbc.com/schedule/%e3%82%b3%e3%83%9f%e3%82%bb%e3%83%b3-58/
LOCATION:猿投コミセン\, 愛知県豊田市四郷町東畑70-1
CATEGORIES:ミニバス男子：練習
END:VEVENT
BEGIN:VEVENT
DTSTART;TZID=Asia/Tokyo:20240628T180000
DTEND;TZID=Asia/Tokyo:20240628T210000
DTSTAMP:20260424T041725
CREATED:20240513T104150Z
LAST-MODIFIED:20240513T104150Z
UID:18183-1719597600-1719608400@new.isatosc-bbc.com
SUMMARY:加納小
DESCRIPTION:
URL:https://new.isatosc-bbc.com/schedule/%e5%8a%a0%e7%b4%8d%e5%b0%8f-11/
LOCATION:加納小\, 愛知県豊田市加納町東股５５
CATEGORIES:ミニバス女子：練習
END:VEVENT
BEGIN:VEVENT
DTSTART;VALUE=DATE:20240629
DTEND;VALUE=DATE:20240630
DTSTAMP:20260424T041725
CREATED:20240513T103829Z
LAST-MODIFIED:20240513T103915Z
UID:18165-1719619200-1719705599@new.isatosc-bbc.com
SUMMARY:敦賀遠征
DESCRIPTION:
URL:https://new.isatosc-bbc.com/schedule/%e3%82%b3%e3%83%9f%e3%82%bb%e3%83%b3-70/
CATEGORIES:ミニバス女子：試合
END:VEVENT
BEGIN:VEVENT
DTSTART;TZID=Asia/Tokyo:20240629T130000
DTEND;TZID=Asia/Tokyo:20240629T170000
DTSTAMP:20260424T041725
CREATED:20240513T101347Z
LAST-MODIFIED:20240513T101347Z
UID:18111-1719666000-1719680400@new.isatosc-bbc.com
SUMMARY:コミセン
DESCRIPTION:
URL:https://new.isatosc-bbc.com/schedule/%e3%82%b3%e3%83%9f%e3%82%bb%e3%83%b3-61/
LOCATION:猿投コミセン\, 愛知県豊田市四郷町東畑70-1
CATEGORIES:ミニバス男子：練習
END:VEVENT
BEGIN:VEVENT
DTSTART;TZID=Asia/Tokyo:20240629T170000
DTEND;TZID=Asia/Tokyo:20240629T210000
DTSTAMP:20260424T041725
CREATED:20240513T100603Z
LAST-MODIFIED:20240513T100603Z
UID:18076-1719680400-1719694800@new.isatosc-bbc.com
SUMMARY:コミセン
DESCRIPTION:
URL:https://new.isatosc-bbc.com/schedule/%e3%82%b3%e3%83%9f%e3%82%bb%e3%83%b3-54/
LOCATION:猿投コミセン\, 愛知県豊田市四郷町東畑70-1
CATEGORIES:ジュニア：練習
END:VEVENT
BEGIN:VEVENT
DTSTART;VALUE=DATE:20240630
DTEND;VALUE=DATE:20240701
DTSTAMP:20260424T041725
CREATED:20240513T100837Z
LAST-MODIFIED:20240602T140623Z
UID:18088-1719705600-1719791999@new.isatosc-bbc.com
SUMMARY:東海Jr.
DESCRIPTION:
URL:https://new.isatosc-bbc.com/schedule/%e7%8c%bf%e6%8a%95%e5%8f%b0%e4%b8%ad-9/
CATEGORIES:ジュニア：試合
END:VEVENT
BEGIN:VEVENT
DTSTART;VALUE=DATE:20240630
DTEND;VALUE=DATE:20240701
DTSTAMP:20260424T041725
CREATED:20240513T103925Z
LAST-MODIFIED:20240513T103925Z
UID:18170-1719705600-1719791999@new.isatosc-bbc.com
SUMMARY:敦賀遠征
DESCRIPTION:
URL:https://new.isatosc-bbc.com/schedule/%e6%95%a6%e8%b3%80%e9%81%a0%e5%be%81/
CATEGORIES:ミニバス女子：試合
END:VEVENT
BEGIN:VEVENT
DTSTART;TZID=Asia/Tokyo:20240630T130000
DTEND;TZID=Asia/Tokyo:20240630T170000
DTSTAMP:20260424T041725
CREATED:20240513T101430Z
LAST-MODIFIED:20240513T101430Z
UID:18117-1719752400-1719766800@new.isatosc-bbc.com
SUMMARY:コミセン
DESCRIPTION:
URL:https://new.isatosc-bbc.com/schedule/%e3%82%b3%e3%83%9f%e3%82%bb%e3%83%b3-64/
LOCATION:猿投コミセン\, 愛知県豊田市四郷町東畑70-1
CATEGORIES:ミニバス男子：練習
END:VEVENT
BEGIN:VEVENT
DTSTART;TZID=Asia/Tokyo:20240702T170000
DTEND;TZID=Asia/Tokyo:20240702T210000
DTSTAMP:20260424T041725
CREATED:20240530T043730Z
LAST-MODIFIED:20240530T043730Z
UID:19033-1719939600-1719954000@new.isatosc-bbc.com
SUMMARY:コミセン
DESCRIPTION:
URL:https://new.isatosc-bbc.com/schedule/%e3%82%b3%e3%83%9f%e3%82%bb%e3%83%b3-81/
LOCATION:猿投コミセン\, 愛知県豊田市四郷町東畑70-1
CATEGORIES:ジュニア：練習
END:VEVENT
BEGIN:VEVENT
DTSTART;TZID=Asia/Tokyo:20240703T183000
DTEND;TZID=Asia/Tokyo:20240703T210000
DTSTAMP:20260424T041725
CREATED:20240530T030458Z
LAST-MODIFIED:20240530T033403Z
UID:18993-1720031400-1720040400@new.isatosc-bbc.com
SUMMARY:青木小
DESCRIPTION:
URL:https://new.isatosc-bbc.com/schedule/%e9%9d%92%e6%9c%a8%e5%b0%8f-21/
LOCATION:青木小\, 愛知県豊田市青木町４丁目５
CATEGORIES:ミニバス男子：練習
END:VEVENT
BEGIN:VEVENT
DTSTART;TZID=Asia/Tokyo:20240703T183000
DTEND;TZID=Asia/Tokyo:20240703T210000
DTSTAMP:20260424T041725
CREATED:20240530T030556Z
LAST-MODIFIED:20240530T033428Z
UID:18995-1720031400-1720040400@new.isatosc-bbc.com
SUMMARY:青木小
DESCRIPTION:
URL:https://new.isatosc-bbc.com/schedule/%e9%9d%92%e6%9c%a8%e5%b0%8f-22/
LOCATION:青木小\, 愛知県豊田市青木町４丁目５
CATEGORIES:ミニバス女子：練習
END:VEVENT
END:VCALENDAR