BEGIN:VCALENDAR
VERSION:2.0
PRODID:-//いさとSCバスケットボールクラブ - 愛知県 豊田市 ミニバス 練習見学・体験 随時受付中 - ECPv6.5.0//NONSGML v1.0//EN
CALSCALE:GREGORIAN
METHOD:PUBLISH
X-ORIGINAL-URL:https://new.isatosc-bbc.com
X-WR-CALDESC:いさとSCバスケットボールクラブ - 愛知県 豊田市 ミニバス 練習見学・体験 随時受付中 のイベント
REFRESH-INTERVAL;VALUE=DURATION:PT1H
X-Robots-Tag:noindex
X-PUBLISHED-TTL:PT1H
BEGIN:VTIMEZONE
TZID:Asia/Tokyo
BEGIN:STANDARD
TZOFFSETFROM:+0900
TZOFFSETTO:+0900
TZNAME:JST
DTSTART:20240101T000000
END:STANDARD
END:VTIMEZONE
BEGIN:VEVENT
DTSTART;TZID=Asia/Tokyo:20240702T170000
DTEND;TZID=Asia/Tokyo:20240702T210000
DTSTAMP:20260424T022434
CREATED:20240530T043730Z
LAST-MODIFIED:20240530T043730Z
UID:19033-1719939600-1719954000@new.isatosc-bbc.com
SUMMARY:コミセン
DESCRIPTION:
URL:https://new.isatosc-bbc.com/schedule/%e3%82%b3%e3%83%9f%e3%82%bb%e3%83%b3-81/
LOCATION:猿投コミセン\, 愛知県豊田市四郷町東畑70-1
CATEGORIES:ジュニア：練習
END:VEVENT
BEGIN:VEVENT
DTSTART;TZID=Asia/Tokyo:20240703T183000
DTEND;TZID=Asia/Tokyo:20240703T210000
DTSTAMP:20260424T022434
CREATED:20240530T030458Z
LAST-MODIFIED:20240530T033403Z
UID:18993-1720031400-1720040400@new.isatosc-bbc.com
SUMMARY:青木小
DESCRIPTION:
URL:https://new.isatosc-bbc.com/schedule/%e9%9d%92%e6%9c%a8%e5%b0%8f-21/
LOCATION:青木小\, 愛知県豊田市青木町４丁目５
CATEGORIES:ミニバス男子：練習
END:VEVENT
BEGIN:VEVENT
DTSTART;TZID=Asia/Tokyo:20240703T183000
DTEND;TZID=Asia/Tokyo:20240703T210000
DTSTAMP:20260424T022434
CREATED:20240530T030556Z
LAST-MODIFIED:20240530T033428Z
UID:18995-1720031400-1720040400@new.isatosc-bbc.com
SUMMARY:青木小
DESCRIPTION:
URL:https://new.isatosc-bbc.com/schedule/%e9%9d%92%e6%9c%a8%e5%b0%8f-22/
LOCATION:青木小\, 愛知県豊田市青木町４丁目５
CATEGORIES:ミニバス女子：練習
END:VEVENT
BEGIN:VEVENT
DTSTART;TZID=Asia/Tokyo:20240704T170000
DTEND;TZID=Asia/Tokyo:20240704T210000
DTSTAMP:20260424T022434
CREATED:20240530T035319Z
LAST-MODIFIED:20240530T035319Z
UID:19031-1720112400-1720126800@new.isatosc-bbc.com
SUMMARY:コミセン
DESCRIPTION:
URL:https://new.isatosc-bbc.com/schedule/%e3%82%b3%e3%83%9f%e3%82%bb%e3%83%b3-80/
LOCATION:猿投コミセン\, 愛知県豊田市四郷町東畑70-1
CATEGORIES:ジュニア：練習
END:VEVENT
BEGIN:VEVENT
DTSTART;TZID=Asia/Tokyo:20240704T180000
DTEND;TZID=Asia/Tokyo:20240704T210000
DTSTAMP:20260424T022434
CREATED:20240530T034939Z
LAST-MODIFIED:20240530T034939Z
UID:19015-1720116000-1720126800@new.isatosc-bbc.com
SUMMARY:コミセン
DESCRIPTION:
URL:https://new.isatosc-bbc.com/schedule/%e3%82%b3%e3%83%9f%e3%82%bb%e3%83%b3-73/
LOCATION:猿投コミセン\, 愛知県豊田市四郷町東畑70-1
CATEGORIES:ミニバス男子：練習
END:VEVENT
BEGIN:VEVENT
DTSTART;TZID=Asia/Tokyo:20240705T180000
DTEND;TZID=Asia/Tokyo:20240705T210000
DTSTAMP:20260424T022434
CREATED:20240530T072931Z
LAST-MODIFIED:20240530T072931Z
UID:19071-1720202400-1720213200@new.isatosc-bbc.com
SUMMARY:加納小
DESCRIPTION:
URL:https://new.isatosc-bbc.com/schedule/%e5%8a%a0%e7%b4%8d%e5%b0%8f-13/
LOCATION:加納小\, 愛知県豊田市加納町東股５５
CATEGORIES:ミニバス女子：練習
END:VEVENT
BEGIN:VEVENT
DTSTART;VALUE=DATE:20240706
DTEND;VALUE=DATE:20240707
DTSTAMP:20260424T022434
CREATED:20240530T054906Z
LAST-MODIFIED:20240603T003733Z
UID:19037-1720224000-1720310399@new.isatosc-bbc.com
SUMMARY:草津カップ
DESCRIPTION:
URL:https://new.isatosc-bbc.com/schedule/%e8%8d%89%e6%b4%a5%e3%82%ab%e3%83%83%e3%83%97/
CATEGORIES:ミニバス男子：試合
END:VEVENT
BEGIN:VEVENT
DTSTART;TZID=Asia/Tokyo:20240706T130000
DTEND;TZID=Asia/Tokyo:20240706T170000
DTSTAMP:20260424T022434
CREATED:20240530T030124Z
LAST-MODIFIED:20240530T030206Z
UID:18984-1720270800-1720285200@new.isatosc-bbc.com
SUMMARY:コミセン
DESCRIPTION:
URL:https://new.isatosc-bbc.com/schedule/%e3%82%b3%e3%83%9f%e3%82%bb%e3%83%b3-34/
LOCATION:猿投コミセン\, 愛知県豊田市四郷町東畑70-1
CATEGORIES:ミニバス女子：練習
END:VEVENT
BEGIN:VEVENT
DTSTART;TZID=Asia/Tokyo:20240706T170000
DTEND;TZID=Asia/Tokyo:20240706T210000
DTSTAMP:20260424T022434
CREATED:20240530T072721Z
LAST-MODIFIED:20240530T072721Z
UID:19069-1720285200-1720299600@new.isatosc-bbc.com
SUMMARY:コミセン
DESCRIPTION:
URL:https://new.isatosc-bbc.com/schedule/%e3%82%b3%e3%83%9f%e3%82%bb%e3%83%b3-88/
LOCATION:猿投コミセン\, 愛知県豊田市四郷町東畑70-1
CATEGORIES:ジュニア：練習
END:VEVENT
BEGIN:VEVENT
DTSTART;VALUE=DATE:20240707
DTEND;VALUE=DATE:20240708
DTSTAMP:20260424T022434
CREATED:20240530T054931Z
LAST-MODIFIED:20240603T003807Z
UID:19039-1720310400-1720396799@new.isatosc-bbc.com
SUMMARY:草津カップ
DESCRIPTION:
URL:https://new.isatosc-bbc.com/schedule/%e8%8d%89%e6%b4%a5%e3%82%ab%e3%83%83%e3%83%97-2/
CATEGORIES:ミニバス男子：試合
END:VEVENT
BEGIN:VEVENT
DTSTART;TZID=Asia/Tokyo:20240707T130000
DTEND;TZID=Asia/Tokyo:20240707T170000
DTSTAMP:20260424T022434
CREATED:20240530T030304Z
LAST-MODIFIED:20240530T030304Z
UID:18988-1720357200-1720371600@new.isatosc-bbc.com
SUMMARY:コミセン
DESCRIPTION:
URL:https://new.isatosc-bbc.com/schedule/%e3%82%b3%e3%83%9f%e3%82%bb%e3%83%b3-51/
LOCATION:猿投コミセン\, 愛知県豊田市四郷町東畑70-1
CATEGORIES:ミニバス女子：練習
END:VEVENT
BEGIN:VEVENT
DTSTART;TZID=Asia/Tokyo:20240707T180000
DTEND;TZID=Asia/Tokyo:20240707T210000
DTSTAMP:20260424T022434
CREATED:20240530T073242Z
LAST-MODIFIED:20240530T073242Z
UID:19083-1720375200-1720386000@new.isatosc-bbc.com
SUMMARY:猿投台中
DESCRIPTION:
URL:https://new.isatosc-bbc.com/schedule/%e7%8c%bf%e6%8a%95%e5%8f%b0%e4%b8%ad-12/
LOCATION:猿投台中\, 愛知県豊田市青木町３丁目８０
CATEGORIES:ジュニア：練習
END:VEVENT
BEGIN:VEVENT
DTSTART;TZID=Asia/Tokyo:20240709T170000
DTEND;TZID=Asia/Tokyo:20240709T210000
DTSTAMP:20260424T022434
CREATED:20240530T043758Z
LAST-MODIFIED:20240530T043758Z
UID:19035-1720544400-1720558800@new.isatosc-bbc.com
SUMMARY:コミセン
DESCRIPTION:
URL:https://new.isatosc-bbc.com/schedule/%e3%82%b3%e3%83%9f%e3%82%bb%e3%83%b3-82/
LOCATION:猿投コミセン\, 愛知県豊田市四郷町東畑70-1
CATEGORIES:ジュニア：練習
END:VEVENT
BEGIN:VEVENT
DTSTART;TZID=Asia/Tokyo:20240710T183000
DTEND;TZID=Asia/Tokyo:20240710T210000
DTSTAMP:20260424T022434
CREATED:20240530T032808Z
LAST-MODIFIED:20240530T033444Z
UID:18997-1720636200-1720645200@new.isatosc-bbc.com
SUMMARY:青木小
DESCRIPTION:
URL:https://new.isatosc-bbc.com/schedule/%e9%9d%92%e6%9c%a8%e5%b0%8f-23/
LOCATION:青木小\, 愛知県豊田市青木町４丁目５
CATEGORIES:ミニバス男子：練習
END:VEVENT
BEGIN:VEVENT
DTSTART;TZID=Asia/Tokyo:20240710T183000
DTEND;TZID=Asia/Tokyo:20240710T210000
DTSTAMP:20260424T022434
CREATED:20240530T033502Z
LAST-MODIFIED:20240530T033502Z
UID:19001-1720636200-1720645200@new.isatosc-bbc.com
SUMMARY:青木小
DESCRIPTION:
URL:https://new.isatosc-bbc.com/schedule/%e9%9d%92%e6%9c%a8%e5%b0%8f-24/
LOCATION:青木小\, 愛知県豊田市青木町４丁目５
CATEGORIES:ミニバス女子：練習
END:VEVENT
BEGIN:VEVENT
DTSTART;TZID=Asia/Tokyo:20240711T170000
DTEND;TZID=Asia/Tokyo:20240711T210000
DTSTAMP:20260424T022434
CREATED:20240530T035300Z
LAST-MODIFIED:20240530T035300Z
UID:19029-1720717200-1720731600@new.isatosc-bbc.com
SUMMARY:コミセン
DESCRIPTION:
URL:https://new.isatosc-bbc.com/schedule/%e3%82%b3%e3%83%9f%e3%82%bb%e3%83%b3-79/
LOCATION:猿投コミセン\, 愛知県豊田市四郷町東畑70-1
CATEGORIES:ジュニア：練習
END:VEVENT
BEGIN:VEVENT
DTSTART;TZID=Asia/Tokyo:20240711T180000
DTEND;TZID=Asia/Tokyo:20240711T210000
DTSTAMP:20260424T022434
CREATED:20240530T035025Z
LAST-MODIFIED:20240530T035025Z
UID:19019-1720720800-1720731600@new.isatosc-bbc.com
SUMMARY:コミセン
DESCRIPTION:
URL:https://new.isatosc-bbc.com/schedule/%e3%82%b3%e3%83%9f%e3%82%bb%e3%83%b3-74/
LOCATION:猿投コミセン\, 愛知県豊田市四郷町東畑70-1
CATEGORIES:ミニバス男子：練習
END:VEVENT
BEGIN:VEVENT
DTSTART;TZID=Asia/Tokyo:20240712T180000
DTEND;TZID=Asia/Tokyo:20240712T210000
DTSTAMP:20260424T022434
CREATED:20240530T073048Z
LAST-MODIFIED:20240530T073048Z
UID:19077-1720807200-1720818000@new.isatosc-bbc.com
SUMMARY:加納小
DESCRIPTION:
URL:https://new.isatosc-bbc.com/schedule/%e5%8a%a0%e7%b4%8d%e5%b0%8f-16/
LOCATION:加納小\, 愛知県豊田市加納町東股５５
CATEGORIES:ミニバス女子：練習
END:VEVENT
BEGIN:VEVENT
DTSTART;VALUE=DATE:20240713
DTEND;VALUE=DATE:20240714
DTSTAMP:20260424T022434
CREATED:20240530T072033Z
LAST-MODIFIED:20240530T072033Z
UID:19043-1720828800-1720915199@new.isatosc-bbc.com
SUMMARY:敦賀遠征
DESCRIPTION:
URL:https://new.isatosc-bbc.com/schedule/%e6%95%a6%e8%b3%80%e9%81%a0%e5%be%81-4/
CATEGORIES:ミニバス女子：試合
END:VEVENT
BEGIN:VEVENT
DTSTART;TZID=Asia/Tokyo:20240713T130000
DTEND;TZID=Asia/Tokyo:20240713T170000
DTSTAMP:20260424T022434
CREATED:20240530T030337Z
LAST-MODIFIED:20240530T030337Z
UID:18986-1720875600-1720890000@new.isatosc-bbc.com
SUMMARY:コミセン
DESCRIPTION:
URL:https://new.isatosc-bbc.com/schedule/%e3%82%b3%e3%83%9f%e3%82%bb%e3%83%b3-69/
LOCATION:猿投コミセン\, 愛知県豊田市四郷町東畑70-1
CATEGORIES:ミニバス男子：練習
END:VEVENT
BEGIN:VEVENT
DTSTART;TZID=Asia/Tokyo:20240713T170000
DTEND;TZID=Asia/Tokyo:20240713T210000
DTSTAMP:20260424T022434
CREATED:20240530T072649Z
LAST-MODIFIED:20240530T072649Z
UID:19067-1720890000-1720904400@new.isatosc-bbc.com
SUMMARY:コミセン
DESCRIPTION:
URL:https://new.isatosc-bbc.com/schedule/%e3%82%b3%e3%83%9f%e3%82%bb%e3%83%b3-87/
LOCATION:猿投コミセン\, 愛知県豊田市四郷町東畑70-1
CATEGORIES:ジュニア：練習
END:VEVENT
BEGIN:VEVENT
DTSTART;VALUE=DATE:20240714
DTEND;VALUE=DATE:20240715
DTSTAMP:20260424T022434
CREATED:20240530T072056Z
LAST-MODIFIED:20240530T072056Z
UID:19045-1720915200-1721001599@new.isatosc-bbc.com
SUMMARY:敦賀遠征
DESCRIPTION:
URL:https://new.isatosc-bbc.com/schedule/%e6%95%a6%e8%b3%80%e9%81%a0%e5%be%81-5/
CATEGORIES:ミニバス女子：試合
END:VEVENT
BEGIN:VEVENT
DTSTART;TZID=Asia/Tokyo:20240714T130000
DTEND;TZID=Asia/Tokyo:20240714T170000
DTSTAMP:20260424T022434
CREATED:20240530T030355Z
LAST-MODIFIED:20240530T030355Z
UID:18991-1720962000-1720976400@new.isatosc-bbc.com
SUMMARY:コミセン
DESCRIPTION:
URL:https://new.isatosc-bbc.com/schedule/%e3%82%b3%e3%83%9f%e3%82%bb%e3%83%b3-72/
LOCATION:猿投コミセン\, 愛知県豊田市四郷町東畑70-1
CATEGORIES:ミニバス男子：練習
END:VEVENT
BEGIN:VEVENT
DTSTART;TZID=Asia/Tokyo:20240714T180000
DTEND;TZID=Asia/Tokyo:20240714T210000
DTSTAMP:20260424T022434
CREATED:20240530T073223Z
LAST-MODIFIED:20240530T073223Z
UID:19081-1720980000-1720990800@new.isatosc-bbc.com
SUMMARY:猿投台中
DESCRIPTION:
URL:https://new.isatosc-bbc.com/schedule/%e7%8c%bf%e6%8a%95%e5%8f%b0%e4%b8%ad-11/
LOCATION:猿投台中\, 愛知県豊田市青木町３丁目８０
CATEGORIES:ジュニア：練習
END:VEVENT
BEGIN:VEVENT
DTSTART;VALUE=DATE:20240715
DTEND;VALUE=DATE:20240716
DTSTAMP:20260424T022434
CREATED:20240530T072246Z
LAST-MODIFIED:20240530T072246Z
UID:19051-1721001600-1721087999@new.isatosc-bbc.com
SUMMARY:FMJ Cup
DESCRIPTION:
URL:https://new.isatosc-bbc.com/schedule/fmj-cup/
CATEGORIES:ジュニア：試合
END:VEVENT
BEGIN:VEVENT
DTSTART;VALUE=DATE:20240715
DTEND;VALUE=DATE:20240716
DTSTAMP:20260424T022434
CREATED:20240530T072321Z
LAST-MODIFIED:20240530T072321Z
UID:19053-1721001600-1721087999@new.isatosc-bbc.com
SUMMARY:陶原カップ
DESCRIPTION:
URL:https://new.isatosc-bbc.com/schedule/%e9%99%b6%e5%8e%9f%e3%82%ab%e3%83%83%e3%83%97/
CATEGORIES:ミニバス男子：試合
END:VEVENT
BEGIN:VEVENT
DTSTART;TZID=Asia/Tokyo:20240716T170000
DTEND;TZID=Asia/Tokyo:20240716T210000
DTSTAMP:20260424T022434
CREATED:20240530T072504Z
LAST-MODIFIED:20240530T072504Z
UID:19059-1721149200-1721163600@new.isatosc-bbc.com
SUMMARY:コミセン
DESCRIPTION:
URL:https://new.isatosc-bbc.com/schedule/%e3%82%b3%e3%83%9f%e3%82%bb%e3%83%b3-83/
LOCATION:猿投コミセン\, 愛知県豊田市四郷町東畑70-1
CATEGORIES:ジュニア：練習
END:VEVENT
BEGIN:VEVENT
DTSTART;TZID=Asia/Tokyo:20240717T183000
DTEND;TZID=Asia/Tokyo:20240717T210000
DTSTAMP:20260424T022434
CREATED:20240530T033526Z
LAST-MODIFIED:20240530T033526Z
UID:19003-1721241000-1721250000@new.isatosc-bbc.com
SUMMARY:青木小
DESCRIPTION:
URL:https://new.isatosc-bbc.com/schedule/%e9%9d%92%e6%9c%a8%e5%b0%8f-25/
LOCATION:青木小\, 愛知県豊田市青木町４丁目５
CATEGORIES:ミニバス男子：練習
END:VEVENT
BEGIN:VEVENT
DTSTART;TZID=Asia/Tokyo:20240717T183000
DTEND;TZID=Asia/Tokyo:20240717T210000
DTSTAMP:20260424T022434
CREATED:20240530T033543Z
LAST-MODIFIED:20240530T033543Z
UID:19005-1721241000-1721250000@new.isatosc-bbc.com
SUMMARY:青木小
DESCRIPTION:
URL:https://new.isatosc-bbc.com/schedule/%e9%9d%92%e6%9c%a8%e5%b0%8f-26/
LOCATION:青木小\, 愛知県豊田市青木町４丁目５
CATEGORIES:ミニバス女子：練習
END:VEVENT
BEGIN:VEVENT
DTSTART;TZID=Asia/Tokyo:20240718T170000
DTEND;TZID=Asia/Tokyo:20240718T210000
DTSTAMP:20260424T022434
CREATED:20240530T035242Z
LAST-MODIFIED:20240530T035242Z
UID:19027-1721322000-1721336400@new.isatosc-bbc.com
SUMMARY:コミセン
DESCRIPTION:
URL:https://new.isatosc-bbc.com/schedule/%e3%82%b3%e3%83%9f%e3%82%bb%e3%83%b3-78/
LOCATION:猿投コミセン\, 愛知県豊田市四郷町東畑70-1
CATEGORIES:ジュニア：練習
END:VEVENT
END:VCALENDAR