BEGIN:VCALENDAR
VERSION:2.0
PRODID:-//いさとSCバスケットボールクラブ - 愛知県 豊田市 ミニバス 練習見学・体験 随時受付中 - ECPv6.5.0//NONSGML v1.0//EN
CALSCALE:GREGORIAN
METHOD:PUBLISH
X-WR-CALNAME:いさとSCバスケットボールクラブ - 愛知県 豊田市 ミニバス 練習見学・体験 随時受付中
X-ORIGINAL-URL:https://new.isatosc-bbc.com
X-WR-CALDESC:いさとSCバスケットボールクラブ - 愛知県 豊田市 ミニバス 練習見学・体験 随時受付中 のイベント
REFRESH-INTERVAL;VALUE=DURATION:PT1H
X-Robots-Tag:noindex
X-PUBLISHED-TTL:PT1H
BEGIN:VTIMEZONE
TZID:Asia/Tokyo
BEGIN:STANDARD
TZOFFSETFROM:+0900
TZOFFSETTO:+0900
TZNAME:JST
DTSTART:20240101T000000
END:STANDARD
END:VTIMEZONE
BEGIN:VEVENT
DTSTART;VALUE=DATE:20240428
DTEND;VALUE=DATE:20240429
DTSTAMP:20260424T055024
CREATED:20240419T121208Z
LAST-MODIFIED:20240419T121208Z
UID:15917-1714262400-1714348799@new.isatosc-bbc.com
SUMMARY:EAST入魂
DESCRIPTION:
URL:https://new.isatosc-bbc.com/schedule/east%e5%85%a5%e9%ad%82/
LOCATION:南知多町総合体育館メインアリーナ\, 愛知県知多郡南知多町豊浜須佐ケ丘５
CATEGORIES:ミニバス男子：試合
END:VEVENT
BEGIN:VEVENT
DTSTART;VALUE=DATE:20240428
DTEND;VALUE=DATE:20240429
DTSTAMP:20260424T055024
CREATED:20240419T122707Z
LAST-MODIFIED:20240419T122707Z
UID:15941-1714262400-1714348799@new.isatosc-bbc.com
SUMMARY:ネイスミス
DESCRIPTION:
URL:https://new.isatosc-bbc.com/schedule/%e3%83%8d%e3%82%a4%e3%82%b9%e3%83%9f%e3%82%b9/
CATEGORIES:ジュニア：試合
END:VEVENT
BEGIN:VEVENT
DTSTART;TZID=Asia/Tokyo:20240428T130000
DTEND;TZID=Asia/Tokyo:20240428T170000
DTSTAMP:20260424T055024
CREATED:20240416T115053Z
LAST-MODIFIED:20240416T115053Z
UID:15453-1714309200-1714323600@new.isatosc-bbc.com
SUMMARY:コミセン
DESCRIPTION:
URL:https://new.isatosc-bbc.com/schedule/%e3%82%b3%e3%83%9f%e3%82%bb%e3%83%b3-38/
LOCATION:猿投コミセン\, 愛知県豊田市四郷町東畑70-1
CATEGORIES:ミニバス女子：練習
END:VEVENT
END:VCALENDAR