BEGIN:VCALENDAR
VERSION:2.0
PRODID:-//いさとSCバスケットボールクラブ - 愛知県 豊田市 ミニバス 練習見学・体験 随時受付中 - ECPv6.5.0//NONSGML v1.0//EN
CALSCALE:GREGORIAN
METHOD:PUBLISH
X-WR-CALNAME:いさとSCバスケットボールクラブ - 愛知県 豊田市 ミニバス 練習見学・体験 随時受付中
X-ORIGINAL-URL:https://new.isatosc-bbc.com
X-WR-CALDESC:いさとSCバスケットボールクラブ - 愛知県 豊田市 ミニバス 練習見学・体験 随時受付中 のイベント
REFRESH-INTERVAL;VALUE=DURATION:PT1H
X-Robots-Tag:noindex
X-PUBLISHED-TTL:PT1H
BEGIN:VTIMEZONE
TZID:Asia/Tokyo
BEGIN:STANDARD
TZOFFSETFROM:+0900
TZOFFSETTO:+0900
TZNAME:JST
DTSTART:20240101T000000
END:STANDARD
END:VTIMEZONE
BEGIN:VEVENT
DTSTART;VALUE=DATE:20240511
DTEND;VALUE=DATE:20240512
DTSTAMP:20260424T041147
CREATED:20240419T122318Z
LAST-MODIFIED:20240419T122329Z
UID:15933-1715385600-1715471999@new.isatosc-bbc.com
SUMMARY:效範交歓会
DESCRIPTION:
URL:https://new.isatosc-bbc.com/schedule/%e6%95%88%e7%af%84%e4%ba%a4%e6%ad%93%e4%bc%9a/
CATEGORIES:ミニバス女子：試合
END:VEVENT
BEGIN:VEVENT
DTSTART;VALUE=DATE:20240511
DTEND;VALUE=DATE:20240512
DTSTAMP:20260424T041147
CREATED:20240419T151150Z
LAST-MODIFIED:20240419T151150Z
UID:15972-1715385600-1715471999@new.isatosc-bbc.com
SUMMARY:效範交歓会
DESCRIPTION:
URL:https://new.isatosc-bbc.com/schedule/%e6%95%88%e7%af%84%e4%ba%a4%e6%ad%93%e4%bc%9a-2/
CATEGORIES:ミニバス男子：試合
END:VEVENT
BEGIN:VEVENT
DTSTART;TZID=Asia/Tokyo:20240511T170000
DTEND;TZID=Asia/Tokyo:20240511T210000
DTSTAMP:20260424T041147
CREATED:20240416T112937Z
LAST-MODIFIED:20240416T112937Z
UID:15349-1715446800-1715461200@new.isatosc-bbc.com
SUMMARY:コミセン
DESCRIPTION:
URL:https://new.isatosc-bbc.com/schedule/%e3%82%b3%e3%83%9f%e3%82%bb%e3%83%b3-15/
LOCATION:猿投コミセン\, 愛知県豊田市四郷町東畑70-1
CATEGORIES:ジュニア：練習
END:VEVENT
END:VCALENDAR