BEGIN:VCALENDAR
VERSION:2.0
PRODID:-//いさとSCバスケットボールクラブ - 愛知県 豊田市 ミニバス 練習見学・体験 随時受付中 - ECPv6.5.0//NONSGML v1.0//EN
CALSCALE:GREGORIAN
METHOD:PUBLISH
X-WR-CALNAME:いさとSCバスケットボールクラブ - 愛知県 豊田市 ミニバス 練習見学・体験 随時受付中
X-ORIGINAL-URL:https://new.isatosc-bbc.com
X-WR-CALDESC:いさとSCバスケットボールクラブ - 愛知県 豊田市 ミニバス 練習見学・体験 随時受付中 のイベント
REFRESH-INTERVAL;VALUE=DURATION:PT1H
X-Robots-Tag:noindex
X-PUBLISHED-TTL:PT1H
BEGIN:VTIMEZONE
TZID:Asia/Tokyo
BEGIN:STANDARD
TZOFFSETFROM:+0900
TZOFFSETTO:+0900
TZNAME:JST
DTSTART:20240101T000000
END:STANDARD
END:VTIMEZONE
BEGIN:VEVENT
DTSTART;VALUE=DATE:20240526
DTEND;VALUE=DATE:20240527
DTSTAMP:20260424T041146
CREATED:20240513T102004Z
LAST-MODIFIED:20240520T083131Z
UID:15388-1716681600-1716767999@new.isatosc-bbc.com
SUMMARY:佐織ミニバス交歓会
DESCRIPTION:
URL:https://new.isatosc-bbc.com/schedule/%e4%bd%90%e7%b9%94%e4%ba%a4%e6%ad%93%e4%bc%9a/
LOCATION:北河田小学校体育館\, 愛知県愛西市北河田町郷前406
CATEGORIES:ミニバス男子：試合
END:VEVENT
BEGIN:VEVENT
DTSTART;VALUE=DATE:20240526
DTEND;VALUE=DATE:20240527
DTSTAMP:20260424T041146
CREATED:20240513T102354Z
LAST-MODIFIED:20240513T102432Z
UID:18031-1716681600-1716767999@new.isatosc-bbc.com
SUMMARY:和歌山遠征
DESCRIPTION:
URL:https://new.isatosc-bbc.com/schedule/%e5%92%8c%e6%ad%8c%e5%b1%b1%e9%81%a0%e5%be%81-2/
CATEGORIES:ジュニア：試合
END:VEVENT
BEGIN:VEVENT
DTSTART;TZID=Asia/Tokyo:20240526T130000
DTEND;TZID=Asia/Tokyo:20240526T170000
DTSTAMP:20260424T041146
CREATED:20240416T115149Z
LAST-MODIFIED:20240416T115149Z
UID:15459-1716728400-1716742800@new.isatosc-bbc.com
SUMMARY:コミセン
DESCRIPTION:
URL:https://new.isatosc-bbc.com/schedule/%e3%82%b3%e3%83%9f%e3%82%bb%e3%83%b3-41/
LOCATION:猿投コミセン\, 愛知県豊田市四郷町東畑70-1
CATEGORIES:ミニバス女子：練習
END:VEVENT
END:VCALENDAR